BEGIN:VCALENDAR
VERSION:2.0
PRODID:-//FEG Gais - ECPv6.15.20//NONSGML v1.0//EN
CALSCALE:GREGORIAN
METHOD:PUBLISH
X-WR-CALNAME:FEG Gais
X-ORIGINAL-URL:https://www.feg-gais.ch
X-WR-CALDESC:Veranstaltungen für FEG Gais
REFRESH-INTERVAL;VALUE=DURATION:PT1H
X-Robots-Tag:noindex
X-PUBLISHED-TTL:PT1H
BEGIN:VTIMEZONE
TZID:Europe/Zurich
BEGIN:DAYLIGHT
TZOFFSETFROM:+0100
TZOFFSETTO:+0200
TZNAME:CEST
DTSTART:20250330T010000
END:DAYLIGHT
BEGIN:STANDARD
TZOFFSETFROM:+0200
TZOFFSETTO:+0100
TZNAME:CET
DTSTART:20251026T010000
END:STANDARD
BEGIN:DAYLIGHT
TZOFFSETFROM:+0100
TZOFFSETTO:+0200
TZNAME:CEST
DTSTART:20260329T010000
END:DAYLIGHT
BEGIN:STANDARD
TZOFFSETFROM:+0200
TZOFFSETTO:+0100
TZNAME:CET
DTSTART:20261025T010000
END:STANDARD
BEGIN:DAYLIGHT
TZOFFSETFROM:+0100
TZOFFSETTO:+0200
TZNAME:CEST
DTSTART:20270328T010000
END:DAYLIGHT
BEGIN:STANDARD
TZOFFSETFROM:+0200
TZOFFSETTO:+0100
TZNAME:CET
DTSTART:20271031T010000
END:STANDARD
END:VTIMEZONE
BEGIN:VEVENT
DTSTART;TZID=Europe/Zurich:20261125T183000
DTEND;TZID=Europe/Zurich:20261125T185000
DTSTAMP:20260424T182451
CREATED:20260424T142023Z
LAST-MODIFIED:20260424T152049Z
UID:10001477-1795631400-1795632600@www.feg-gais.ch
SUMMARY:Friedensgebet
DESCRIPTION:
URL:https://www.feg-gais.ch/event/friedensgebet-13/
LOCATION:Dorfpark Gais
END:VEVENT
BEGIN:VEVENT
DTSTART;TZID=Europe/Zurich:20261127T193000
DTEND;TZID=Europe/Zurich:20261127T213000
DTSTAMP:20260424T182451
CREATED:20251116T153419Z
LAST-MODIFIED:20260424T152049Z
UID:10001362-1795807800-1795815000@www.feg-gais.ch
SUMMARY:Mitgliederversammlung
DESCRIPTION:
URL:https://www.feg-gais.ch/event/mitgliederversammlung-3/
LOCATION:FEG Gais\, Gaiserau 46\, Gais\, Appenzell Ausserrhoden\, 9056\, Switzerland
GEO:47.3592607;9.4506805
X-APPLE-STRUCTURED-LOCATION;VALUE=URI;X-ADDRESS=FEG Gais Gaiserau 46 Gais Appenzell Ausserrhoden 9056 Switzerland;X-APPLE-RADIUS=500;X-TITLE=Gaiserau 46:geo:9.4506805,47.3592607
END:VEVENT
BEGIN:VEVENT
DTSTART;TZID=Europe/Zurich:20261128T120000
DTEND;TZID=Europe/Zurich:20261128T193000
DTSTAMP:20260424T182451
CREATED:20260304T080703Z
LAST-MODIFIED:20260424T152049Z
UID:10001457-1795867200-1795894200@www.feg-gais.ch
SUMMARY:Adventsmarkt in Gais
DESCRIPTION:Wir sind wieder präsent mit unserem Stand. Herzlich willkommen!
URL:https://www.feg-gais.ch/event/adventsmarkt-in-gais-2/
LOCATION:Dorfplatz Gais
END:VEVENT
BEGIN:VEVENT
DTSTART;TZID=Europe/Zurich:20261128T183000
DTEND;TZID=Europe/Zurich:20261128T213000
DTSTAMP:20260424T182451
CREATED:20251209T083750Z
LAST-MODIFIED:20260424T152049Z
UID:10001439-1795890600-1795901400@www.feg-gais.ch
SUMMARY:Hangout
DESCRIPTION:
URL:https://www.feg-gais.ch/event/hangout-13/
LOCATION:FEG Gais\, Gaiserau 46\, Gais\, Appenzell Ausserrhoden\, 9056\, Switzerland
GEO:47.3592607;9.4506805
X-APPLE-STRUCTURED-LOCATION;VALUE=URI;X-ADDRESS=FEG Gais Gaiserau 46 Gais Appenzell Ausserrhoden 9056 Switzerland;X-APPLE-RADIUS=500;X-TITLE=Gaiserau 46:geo:9.4506805,47.3592607
END:VEVENT
BEGIN:VEVENT
DTSTART;TZID=Europe/Zurich:20261129T093000
DTEND;TZID=Europe/Zurich:20261129T110000
DTSTAMP:20260424T182451
CREATED:20251116T153419Z
LAST-MODIFIED:20260424T152049Z
UID:10001363-1795944600-1795950000@www.feg-gais.ch
SUMMARY:Läbe Teile - Gottesdienst
DESCRIPTION:Kinderhort | KidsTreff
URL:https://www.feg-gais.ch/event/gottesdienst-6/
LOCATION:FEG Gais\, Gaiserau 46\, Gais\, Appenzell Ausserrhoden\, 9056\, Switzerland
GEO:47.3592607;9.4506805
X-APPLE-STRUCTURED-LOCATION;VALUE=URI;X-ADDRESS=FEG Gais Gaiserau 46 Gais Appenzell Ausserrhoden 9056 Switzerland;X-APPLE-RADIUS=500;X-TITLE=Gaiserau 46:geo:9.4506805,47.3592607
END:VEVENT
END:VCALENDAR