BEGIN:VCALENDAR
VERSION:2.0
PRODID:-//FEG Gais - ECPv6.15.20//NONSGML v1.0//EN
CALSCALE:GREGORIAN
METHOD:PUBLISH
X-ORIGINAL-URL:https://www.feg-gais.ch
X-WR-CALDESC:Veranstaltungen für FEG Gais
REFRESH-INTERVAL;VALUE=DURATION:PT1H
X-Robots-Tag:noindex
X-PUBLISHED-TTL:PT1H
BEGIN:VTIMEZONE
TZID:Europe/Zurich
BEGIN:DAYLIGHT
TZOFFSETFROM:+0100
TZOFFSETTO:+0200
TZNAME:CEST
DTSTART:20250330T010000
END:DAYLIGHT
BEGIN:STANDARD
TZOFFSETFROM:+0200
TZOFFSETTO:+0100
TZNAME:CET
DTSTART:20251026T010000
END:STANDARD
BEGIN:DAYLIGHT
TZOFFSETFROM:+0100
TZOFFSETTO:+0200
TZNAME:CEST
DTSTART:20260329T010000
END:DAYLIGHT
BEGIN:STANDARD
TZOFFSETFROM:+0200
TZOFFSETTO:+0100
TZNAME:CET
DTSTART:20261025T010000
END:STANDARD
BEGIN:DAYLIGHT
TZOFFSETFROM:+0100
TZOFFSETTO:+0200
TZNAME:CEST
DTSTART:20270328T010000
END:DAYLIGHT
BEGIN:STANDARD
TZOFFSETFROM:+0200
TZOFFSETTO:+0100
TZNAME:CET
DTSTART:20271031T010000
END:STANDARD
END:VTIMEZONE
BEGIN:VEVENT
DTSTART;TZID=Europe/Zurich:20260818T143000
DTEND;TZID=Europe/Zurich:20260818T153000
DTSTAMP:20260420T063122
CREATED:20251116T153328Z
LAST-MODIFIED:20260420T040421Z
UID:10001334-1787063400-1787067000@www.feg-gais.ch
SUMMARY:Bibelstunde
DESCRIPTION:
URL:https://www.feg-gais.ch/event/bibelstunde-14/
LOCATION:FEG Gais\, Gaiserau 46\, Gais\, Appenzell Ausserrhoden\, 9056\, Switzerland
GEO:47.3592607;9.4506805
X-APPLE-STRUCTURED-LOCATION;VALUE=URI;X-ADDRESS=FEG Gais Gaiserau 46 Gais Appenzell Ausserrhoden 9056 Switzerland;X-APPLE-RADIUS=500;X-TITLE=Gaiserau 46:geo:9.4506805,47.3592607
END:VEVENT
BEGIN:VEVENT
DTSTART;TZID=Europe/Zurich:20260822T183000
DTEND;TZID=Europe/Zurich:20260822T213000
DTSTAMP:20260420T063122
CREATED:20251209T083703Z
LAST-MODIFIED:20260420T040422Z
UID:10001431-1787423400-1787434200@www.feg-gais.ch
SUMMARY:Hangout
DESCRIPTION:
URL:https://www.feg-gais.ch/event/hangout-11/
LOCATION:FEG Gais\, Gaiserau 46\, Gais\, Appenzell Ausserrhoden\, 9056\, Switzerland
GEO:47.3592607;9.4506805
X-APPLE-STRUCTURED-LOCATION;VALUE=URI;X-ADDRESS=FEG Gais Gaiserau 46 Gais Appenzell Ausserrhoden 9056 Switzerland;X-APPLE-RADIUS=500;X-TITLE=Gaiserau 46:geo:9.4506805,47.3592607
END:VEVENT
BEGIN:VEVENT
DTSTART;TZID=Europe/Zurich:20260823T110000
DTEND;TZID=Europe/Zurich:20260823T120000
DTSTAMP:20260420T063122
CREATED:20251116T153329Z
LAST-MODIFIED:20260420T040435Z
UID:10001335-1787482800-1787486400@www.feg-gais.ch
SUMMARY:Ökumenischer Gottesdienst auf dem Unteren Gäbris
DESCRIPTION:Mit Möglichkeit zum anschliessendem Mittagessen – Infos folgen. \n mit Kinderprogramm
URL:https://www.feg-gais.ch/event/oekumenischer-gottesdienst-auf-dem-unteren-gaebris/
LOCATION:Unterer Gäbris
END:VEVENT
END:VCALENDAR