BEGIN:VCALENDAR
VERSION:2.0
PRODID:-//FEG Gais - ECPv6.15.20//NONSGML v1.0//EN
CALSCALE:GREGORIAN
METHOD:PUBLISH
X-ORIGINAL-URL:https://www.feg-gais.ch
X-WR-CALDESC:Veranstaltungen für FEG Gais
REFRESH-INTERVAL;VALUE=DURATION:PT1H
X-Robots-Tag:noindex
X-PUBLISHED-TTL:PT1H
BEGIN:VTIMEZONE
TZID:Europe/Zurich
BEGIN:DAYLIGHT
TZOFFSETFROM:+0100
TZOFFSETTO:+0200
TZNAME:CEST
DTSTART:20250330T010000
END:DAYLIGHT
BEGIN:STANDARD
TZOFFSETFROM:+0200
TZOFFSETTO:+0100
TZNAME:CET
DTSTART:20251026T010000
END:STANDARD
BEGIN:DAYLIGHT
TZOFFSETFROM:+0100
TZOFFSETTO:+0200
TZNAME:CEST
DTSTART:20260329T010000
END:DAYLIGHT
BEGIN:STANDARD
TZOFFSETFROM:+0200
TZOFFSETTO:+0100
TZNAME:CET
DTSTART:20261025T010000
END:STANDARD
BEGIN:DAYLIGHT
TZOFFSETFROM:+0100
TZOFFSETTO:+0200
TZNAME:CEST
DTSTART:20270328T010000
END:DAYLIGHT
BEGIN:STANDARD
TZOFFSETFROM:+0200
TZOFFSETTO:+0100
TZNAME:CET
DTSTART:20271031T010000
END:STANDARD
END:VTIMEZONE
BEGIN:VEVENT
DTSTART;TZID=Europe/Zurich:20260428T143000
DTEND;TZID=Europe/Zurich:20260428T170000
DTSTAMP:20260419T222319
CREATED:20251116T153221Z
LAST-MODIFIED:20251203T070517Z
UID:10001300-1777386600-1777395600@www.feg-gais.ch
SUMMARY:65+
DESCRIPTION:
URL:https://www.feg-gais.ch/event/65-8/
LOCATION:FEG Gais\, Gaiserau 46\, Gais\, Appenzell Ausserrhoden\, 9056\, Switzerland
GEO:47.3592607;9.4506805
X-APPLE-STRUCTURED-LOCATION;VALUE=URI;X-ADDRESS=FEG Gais Gaiserau 46 Gais Appenzell Ausserrhoden 9056 Switzerland;X-APPLE-RADIUS=500;X-TITLE=Gaiserau 46:geo:9.4506805,47.3592607
END:VEVENT
BEGIN:VEVENT
DTSTART;TZID=Europe/Zurich:20260429T140000
DTEND;TZID=Europe/Zurich:20260429T160000
DTSTAMP:20260419T222319
CREATED:20251209T083526Z
LAST-MODIFIED:20260419T194821Z
UID:10001413-1777471200-1777478400@www.feg-gais.ch
SUMMARY:Strick-Café
DESCRIPTION:
URL:https://www.feg-gais.ch/event/strick-cafe-31/
LOCATION:FEG Gais\, Gaiserau 46\, Gais\, Appenzell Ausserrhoden\, 9056\, Switzerland
GEO:47.3592607;9.4506805
X-APPLE-STRUCTURED-LOCATION;VALUE=URI;X-ADDRESS=FEG Gais Gaiserau 46 Gais Appenzell Ausserrhoden 9056 Switzerland;X-APPLE-RADIUS=500;X-TITLE=Gaiserau 46:geo:9.4506805,47.3592607
END:VEVENT
BEGIN:VEVENT
DTSTART;TZID=Europe/Zurich:20260429T190000
DTEND;TZID=Europe/Zurich:20260429T210000
DTSTAMP:20260419T222319
CREATED:20251209T083526Z
LAST-MODIFIED:20260419T194822Z
UID:10001414-1777489200-1777496400@www.feg-gais.ch
SUMMARY:Feuerabend Appenzell
DESCRIPTION:Lagerfeuer\, Gemeinschaft\, Austausch\, Grillieren\, Lebensfragen & Herausforderungen\, Antworten \n Für Männer zw. 18 und 45 Jahren. Keine Anmeldungen erforderlich. Getränke und Essen selber mitbringen.
URL:https://www.feg-gais.ch/event/feuerabend-appenzell-8/
LOCATION:Feuerstelle Horstbach
END:VEVENT
BEGIN:VEVENT
DTSTART;TZID=Europe/Zurich:20260502T190000
DTEND;TZID=Europe/Zurich:20260502T213000
DTSTAMP:20260419T222319
CREATED:20251209T083527Z
LAST-MODIFIED:20260419T194822Z
UID:10001415-1777748400-1777757400@www.feg-gais.ch
SUMMARY:Connect
DESCRIPTION:für Jugendliche ab 16 Jahren
URL:https://www.feg-gais.ch/event/connect-14/
LOCATION:FEG Gais\, Gaiserau 46\, Gais\, Appenzell Ausserrhoden\, 9056\, Switzerland
GEO:47.3592607;9.4506805
X-APPLE-STRUCTURED-LOCATION;VALUE=URI;X-ADDRESS=FEG Gais Gaiserau 46 Gais Appenzell Ausserrhoden 9056 Switzerland;X-APPLE-RADIUS=500;X-TITLE=Gaiserau 46:geo:9.4506805,47.3592607
END:VEVENT
BEGIN:VEVENT
DTSTART;TZID=Europe/Zurich:20260503T093000
DTEND;TZID=Europe/Zurich:20260503T104500
DTSTAMP:20260419T222319
CREATED:20251202T133455Z
LAST-MODIFIED:20260419T194834Z
UID:10001381-1777800600-1777805100@www.feg-gais.ch
SUMMARY:FollowMe im Einsatz
DESCRIPTION:Wir machen alle einen Dienst im Gottesdienst gemäss Absprache und Plan.
URL:https://www.feg-gais.ch/event/followme-im-einsatz-3/
LOCATION:FEG Gais\, Gaiserau 46\, Gais\, Appenzell Ausserrhoden\, 9056\, Switzerland
GEO:47.3592607;9.4506805
X-APPLE-STRUCTURED-LOCATION;VALUE=URI;X-ADDRESS=FEG Gais Gaiserau 46 Gais Appenzell Ausserrhoden 9056 Switzerland;X-APPLE-RADIUS=500;X-TITLE=Gaiserau 46:geo:9.4506805,47.3592607
END:VEVENT
BEGIN:VEVENT
DTSTART;TZID=Europe/Zurich:20260503T093000
DTEND;TZID=Europe/Zurich:20260503T110000
DTSTAMP:20260419T222319
CREATED:20251116T153221Z
LAST-MODIFIED:20260419T194834Z
UID:10001301-1777800600-1777806000@www.feg-gais.ch
SUMMARY:Gottesdienst mit Claudius Zuber
DESCRIPTION:Kinderhort | KidsTreff
URL:https://www.feg-gais.ch/event/gottesdienst-mit-claudius-zuber/
LOCATION:FEG Gais\, Gaiserau 46\, Gais\, Appenzell Ausserrhoden\, 9056\, Switzerland
GEO:47.3592607;9.4506805
X-APPLE-STRUCTURED-LOCATION;VALUE=URI;X-ADDRESS=FEG Gais Gaiserau 46 Gais Appenzell Ausserrhoden 9056 Switzerland;X-APPLE-RADIUS=500;X-TITLE=Gaiserau 46:geo:9.4506805,47.3592607
END:VEVENT
END:VCALENDAR