BEGIN:VCALENDAR
VERSION:2.0
PRODID:-//FEG Gais - ECPv6.15.20//NONSGML v1.0//EN
CALSCALE:GREGORIAN
METHOD:PUBLISH
X-WR-CALNAME:FEG Gais
X-ORIGINAL-URL:https://www.feg-gais.ch
X-WR-CALDESC:Veranstaltungen für FEG Gais
REFRESH-INTERVAL;VALUE=DURATION:PT1H
X-Robots-Tag:noindex
X-PUBLISHED-TTL:PT1H
BEGIN:VTIMEZONE
TZID:Europe/Zurich
BEGIN:DAYLIGHT
TZOFFSETFROM:+0100
TZOFFSETTO:+0200
TZNAME:CEST
DTSTART:20250330T010000
END:DAYLIGHT
BEGIN:STANDARD
TZOFFSETFROM:+0200
TZOFFSETTO:+0100
TZNAME:CET
DTSTART:20251026T010000
END:STANDARD
BEGIN:DAYLIGHT
TZOFFSETFROM:+0100
TZOFFSETTO:+0200
TZNAME:CEST
DTSTART:20260329T010000
END:DAYLIGHT
BEGIN:STANDARD
TZOFFSETFROM:+0200
TZOFFSETTO:+0100
TZNAME:CET
DTSTART:20261025T010000
END:STANDARD
BEGIN:DAYLIGHT
TZOFFSETFROM:+0100
TZOFFSETTO:+0200
TZNAME:CEST
DTSTART:20270328T010000
END:DAYLIGHT
BEGIN:STANDARD
TZOFFSETFROM:+0200
TZOFFSETTO:+0100
TZNAME:CET
DTSTART:20271031T010000
END:STANDARD
END:VTIMEZONE
BEGIN:VEVENT
DTSTART;TZID=Europe/Zurich:20260422T140000
DTEND;TZID=Europe/Zurich:20260422T160000
DTSTAMP:20260419T220635
CREATED:20251209T083510Z
LAST-MODIFIED:20260419T194820Z
UID:10001412-1776866400-1776873600@www.feg-gais.ch
SUMMARY:Strick-Café
DESCRIPTION:
URL:https://www.feg-gais.ch/event/strick-cafe-30/
LOCATION:FEG Gais\, Gaiserau 46\, Gais\, Appenzell Ausserrhoden\, 9056\, Switzerland
GEO:47.3592607;9.4506805
X-APPLE-STRUCTURED-LOCATION;VALUE=URI;X-ADDRESS=FEG Gais Gaiserau 46 Gais Appenzell Ausserrhoden 9056 Switzerland;X-APPLE-RADIUS=500;X-TITLE=Gaiserau 46:geo:9.4506805,47.3592607
END:VEVENT
BEGIN:VEVENT
DTSTART;TZID=Europe/Zurich:20260422T183000
DTEND;TZID=Europe/Zurich:20260422T185000
DTSTAMP:20260419T220635
CREATED:20251116T153220Z
LAST-MODIFIED:20260419T194820Z
UID:10001297-1776882600-1776883800@www.feg-gais.ch
SUMMARY:Friedensgebet
DESCRIPTION:
URL:https://www.feg-gais.ch/event/friedensgebet-5/
LOCATION:Dorfpark Gais
END:VEVENT
BEGIN:VEVENT
DTSTART;TZID=Europe/Zurich:20260424T193000
DTEND;TZID=Europe/Zurich:20260424T210000
DTSTAMP:20260419T220635
CREATED:20251116T153220Z
LAST-MODIFIED:20260419T194820Z
UID:10001298-1777059000-1777064400@www.feg-gais.ch
SUMMARY:Monatsgebet
DESCRIPTION:
URL:https://www.feg-gais.ch/event/monatsgebet-8/
LOCATION:FEG Gais\, Gaiserau 46\, Gais\, Appenzell Ausserrhoden\, 9056\, Switzerland
GEO:47.3592607;9.4506805
X-APPLE-STRUCTURED-LOCATION;VALUE=URI;X-ADDRESS=FEG Gais Gaiserau 46 Gais Appenzell Ausserrhoden 9056 Switzerland;X-APPLE-RADIUS=500;X-TITLE=Gaiserau 46:geo:9.4506805,47.3592607
END:VEVENT
BEGIN:VEVENT
DTSTART;TZID=Europe/Zurich:20260425T100000
DTEND;TZID=Europe/Zurich:20260425T170000
DTSTAMP:20260419T220635
CREATED:20251210T090441Z
LAST-MODIFIED:20260419T194821Z
UID:10001445-1777111200-1777136400@www.feg-gais.ch
SUMMARY:Jungschar Rotbachtal
DESCRIPTION:
URL:https://www.feg-gais.ch/event/jungschar-rotbachtal-10/
LOCATION:FEG Gais\, Gaiserau 46\, Gais\, Appenzell Ausserrhoden\, 9056\, Switzerland
GEO:47.3592607;9.4506805
X-APPLE-STRUCTURED-LOCATION;VALUE=URI;X-ADDRESS=FEG Gais Gaiserau 46 Gais Appenzell Ausserrhoden 9056 Switzerland;X-APPLE-RADIUS=500;X-TITLE=Gaiserau 46:geo:9.4506805,47.3592607
END:VEVENT
BEGIN:VEVENT
DTSTART;TZID=Europe/Zurich:20260426T093000
DTEND;TZID=Europe/Zurich:20260426T104500
DTSTAMP:20260419T220635
CREATED:20251202T133441Z
LAST-MODIFIED:20260419T194821Z
UID:10001380-1777195800-1777200300@www.feg-gais.ch
SUMMARY:FollowMe
DESCRIPTION:
URL:https://www.feg-gais.ch/event/followme-13/
LOCATION:FEG Gais\, Gaiserau 46\, Gais\, Appenzell Ausserrhoden\, 9056\, Switzerland
GEO:47.3592607;9.4506805
X-APPLE-STRUCTURED-LOCATION;VALUE=URI;X-ADDRESS=FEG Gais Gaiserau 46 Gais Appenzell Ausserrhoden 9056 Switzerland;X-APPLE-RADIUS=500;X-TITLE=Gaiserau 46:geo:9.4506805,47.3592607
END:VEVENT
BEGIN:VEVENT
DTSTART;TZID=Europe/Zurich:20260426T093000
DTEND;TZID=Europe/Zurich:20260426T110000
DTSTAMP:20260419T220635
CREATED:20251116T153221Z
LAST-MODIFIED:20260419T194821Z
UID:10001299-1777195800-1777201200@www.feg-gais.ch
SUMMARY:Gottesdienst mit Joachim Heina
DESCRIPTION:Kinderhort | KidsTreff
URL:https://www.feg-gais.ch/event/gottesdienst-von-joachim-heina-5/
LOCATION:FEG Gais\, Gaiserau 46\, Gais\, Appenzell Ausserrhoden\, 9056\, Switzerland
GEO:47.3592607;9.4506805
X-APPLE-STRUCTURED-LOCATION;VALUE=URI;X-ADDRESS=FEG Gais Gaiserau 46 Gais Appenzell Ausserrhoden 9056 Switzerland;X-APPLE-RADIUS=500;X-TITLE=Gaiserau 46:geo:9.4506805,47.3592607
END:VEVENT
BEGIN:VEVENT
DTSTART;TZID=Europe/Zurich:20260426T185000
DTEND;TZID=Europe/Zurich:20260426T203000
DTSTAMP:20260419T220635
CREATED:20260402T123300Z
LAST-MODIFIED:20260419T194821Z
UID:10001462-1777229400-1777235400@www.feg-gais.ch
SUMMARY:Sunday Night
DESCRIPTION:Türöffnung: 18.30 Uhr | Live Übertragung aus dem ICF Zürich
URL:https://www.feg-gais.ch/event/sunday-night-3/
LOCATION:FEG Gais\, Gaiserau 46\, Gais\, Appenzell Ausserrhoden\, 9056\, Switzerland
GEO:47.3592607;9.4506805
X-APPLE-STRUCTURED-LOCATION;VALUE=URI;X-ADDRESS=FEG Gais Gaiserau 46 Gais Appenzell Ausserrhoden 9056 Switzerland;X-APPLE-RADIUS=500;X-TITLE=Gaiserau 46:geo:9.4506805,47.3592607
END:VEVENT
END:VCALENDAR