BEGIN:VCALENDAR
VERSION:2.0
PRODID:-//FEG Gais - ECPv6.15.20//NONSGML v1.0//EN
CALSCALE:GREGORIAN
METHOD:PUBLISH
X-WR-CALNAME:FEG Gais
X-ORIGINAL-URL:https://www.feg-gais.ch
X-WR-CALDESC:Veranstaltungen für FEG Gais
REFRESH-INTERVAL;VALUE=DURATION:PT1H
X-Robots-Tag:noindex
X-PUBLISHED-TTL:PT1H
BEGIN:VTIMEZONE
TZID:Europe/Zurich
BEGIN:DAYLIGHT
TZOFFSETFROM:+0100
TZOFFSETTO:+0200
TZNAME:CEST
DTSTART:20250330T010000
END:DAYLIGHT
BEGIN:STANDARD
TZOFFSETFROM:+0200
TZOFFSETTO:+0100
TZNAME:CET
DTSTART:20251026T010000
END:STANDARD
BEGIN:DAYLIGHT
TZOFFSETFROM:+0100
TZOFFSETTO:+0200
TZNAME:CEST
DTSTART:20260329T010000
END:DAYLIGHT
BEGIN:STANDARD
TZOFFSETFROM:+0200
TZOFFSETTO:+0100
TZNAME:CET
DTSTART:20261025T010000
END:STANDARD
BEGIN:DAYLIGHT
TZOFFSETFROM:+0100
TZOFFSETTO:+0200
TZNAME:CEST
DTSTART:20270328T010000
END:DAYLIGHT
BEGIN:STANDARD
TZOFFSETFROM:+0200
TZOFFSETTO:+0100
TZNAME:CET
DTSTART:20271031T010000
END:STANDARD
END:VTIMEZONE
BEGIN:VEVENT
DTSTART;TZID=Europe/Zurich:20260324T193000
DTEND;TZID=Europe/Zurich:20260324T203000
DTSTAMP:20260420T004242
CREATED:20251116T153149Z
LAST-MODIFIED:20260324T181743Z
UID:10001282-1774380600-1774384200@www.feg-gais.ch
SUMMARY:Gebetsabend
DESCRIPTION:
URL:https://www.feg-gais.ch/event/gebetsabend-11/
LOCATION:FEG Gais\, Gaiserau 46\, Gais\, Appenzell Ausserrhoden\, 9056\, Switzerland
GEO:47.3592607;9.4506805
X-APPLE-STRUCTURED-LOCATION;VALUE=URI;X-ADDRESS=FEG Gais Gaiserau 46 Gais Appenzell Ausserrhoden 9056 Switzerland;X-APPLE-RADIUS=500;X-TITLE=Gaiserau 46:geo:9.4506805,47.3592607
END:VEVENT
BEGIN:VEVENT
DTSTART;TZID=Europe/Zurich:20260325T140000
DTEND;TZID=Europe/Zurich:20260325T160000
DTSTAMP:20260420T004242
CREATED:20251209T083438Z
LAST-MODIFIED:20260325T143231Z
UID:10001404-1774447200-1774454400@www.feg-gais.ch
SUMMARY:Strick-Café
DESCRIPTION:
URL:https://www.feg-gais.ch/event/strick-cafe-26/
LOCATION:FEG Gais\, Gaiserau 46\, Gais\, Appenzell Ausserrhoden\, 9056\, Switzerland
GEO:47.3592607;9.4506805
X-APPLE-STRUCTURED-LOCATION;VALUE=URI;X-ADDRESS=FEG Gais Gaiserau 46 Gais Appenzell Ausserrhoden 9056 Switzerland;X-APPLE-RADIUS=500;X-TITLE=Gaiserau 46:geo:9.4506805,47.3592607
END:VEVENT
BEGIN:VEVENT
DTSTART;TZID=Europe/Zurich:20260325T183000
DTEND;TZID=Europe/Zurich:20260325T185000
DTSTAMP:20260420T004242
CREATED:20251116T153149Z
LAST-MODIFIED:20260325T170307Z
UID:10001283-1774463400-1774464600@www.feg-gais.ch
SUMMARY:Friedensgebet
DESCRIPTION:
URL:https://www.feg-gais.ch/event/friedensgebet-4/
LOCATION:Dorfpark Gais
END:VEVENT
BEGIN:VEVENT
DTSTART;TZID=Europe/Zurich:20260325T190000
DTEND;TZID=Europe/Zurich:20260325T210000
DTSTAMP:20260420T004242
CREATED:20251209T083438Z
LAST-MODIFIED:20260325T190318Z
UID:10001405-1774465200-1774472400@www.feg-gais.ch
SUMMARY:Feuerabend Appenzell
DESCRIPTION:Lagerfeuer\, Gemeinschaft\, Austausch\, Grillieren\, Lebensfragen & Herausforderungen\, Antworten \n Für Männer zw. 18 und 45 Jahren. Keine Anmeldungen erforderlich. Getränke und Essen selber mitbringen.
URL:https://www.feg-gais.ch/event/feuerabend-appenzell-7/
LOCATION:Feuerstelle Horstbach
END:VEVENT
BEGIN:VEVENT
DTSTART;TZID=Europe/Zurich:20260327T193000
DTEND;TZID=Europe/Zurich:20260327T213000
DTSTAMP:20260420T004242
CREATED:20251116T153149Z
LAST-MODIFIED:20260327T194934Z
UID:10001284-1774639800-1774647000@www.feg-gais.ch
SUMMARY:Mitgliederversammlung
DESCRIPTION:
URL:https://www.feg-gais.ch/event/mitgliederversammlung-2/
LOCATION:FEG Gais\, Gaiserau 46\, Gais\, Appenzell Ausserrhoden\, 9056\, Switzerland
GEO:47.3592607;9.4506805
X-APPLE-STRUCTURED-LOCATION;VALUE=URI;X-ADDRESS=FEG Gais Gaiserau 46 Gais Appenzell Ausserrhoden 9056 Switzerland;X-APPLE-RADIUS=500;X-TITLE=Gaiserau 46:geo:9.4506805,47.3592607
END:VEVENT
BEGIN:VEVENT
DTSTART;TZID=Europe/Zurich:20260328T190000
DTEND;TZID=Europe/Zurich:20260328T213000
DTSTAMP:20260420T004242
CREATED:20251209T083439Z
LAST-MODIFIED:20260328T191836Z
UID:10001406-1774724400-1774733400@www.feg-gais.ch
SUMMARY:Connect
DESCRIPTION:für Jugendliche ab 16 Jahren
URL:https://www.feg-gais.ch/event/connect-12/
LOCATION:FEG Gais\, Gaiserau 46\, Gais\, Appenzell Ausserrhoden\, 9056\, Switzerland
GEO:47.3592607;9.4506805
X-APPLE-STRUCTURED-LOCATION;VALUE=URI;X-ADDRESS=FEG Gais Gaiserau 46 Gais Appenzell Ausserrhoden 9056 Switzerland;X-APPLE-RADIUS=500;X-TITLE=Gaiserau 46:geo:9.4506805,47.3592607
END:VEVENT
BEGIN:VEVENT
DTSTART;TZID=Europe/Zurich:20260329T190000
DTEND;TZID=Europe/Zurich:20260329T201500
DTSTAMP:20260420T004242
CREATED:20251116T153204Z
LAST-MODIFIED:20260329T171909Z
UID:10001285-1774810800-1774815300@www.feg-gais.ch
SUMMARY:'Läbe teile' - Abendgottesdienst
DESCRIPTION:Kein Kinderprogramm
URL:https://www.feg-gais.ch/event/laebe-teile-gottesdienst-3/
LOCATION:FEG Gais\, Gaiserau 46\, Gais\, Appenzell Ausserrhoden\, 9056\, Switzerland
GEO:47.3592607;9.4506805
X-APPLE-STRUCTURED-LOCATION;VALUE=URI;X-ADDRESS=FEG Gais Gaiserau 46 Gais Appenzell Ausserrhoden 9056 Switzerland;X-APPLE-RADIUS=500;X-TITLE=Gaiserau 46:geo:9.4506805,47.3592607
END:VEVENT
END:VCALENDAR