BEGIN:VCALENDAR
VERSION:2.0
PRODID:-//FEG Gais - ECPv6.15.20//NONSGML v1.0//EN
CALSCALE:GREGORIAN
METHOD:PUBLISH
X-ORIGINAL-URL:https://www.feg-gais.ch
X-WR-CALDESC:Veranstaltungen für FEG Gais
REFRESH-INTERVAL;VALUE=DURATION:PT1H
X-Robots-Tag:noindex
X-PUBLISHED-TTL:PT1H
BEGIN:VTIMEZONE
TZID:Europe/Zurich
BEGIN:DAYLIGHT
TZOFFSETFROM:+0100
TZOFFSETTO:+0200
TZNAME:CEST
DTSTART:20250330T010000
END:DAYLIGHT
BEGIN:STANDARD
TZOFFSETFROM:+0200
TZOFFSETTO:+0100
TZNAME:CET
DTSTART:20251026T010000
END:STANDARD
BEGIN:DAYLIGHT
TZOFFSETFROM:+0100
TZOFFSETTO:+0200
TZNAME:CEST
DTSTART:20260329T010000
END:DAYLIGHT
BEGIN:STANDARD
TZOFFSETFROM:+0200
TZOFFSETTO:+0100
TZNAME:CET
DTSTART:20261025T010000
END:STANDARD
BEGIN:DAYLIGHT
TZOFFSETFROM:+0100
TZOFFSETTO:+0200
TZNAME:CEST
DTSTART:20270328T010000
END:DAYLIGHT
BEGIN:STANDARD
TZOFFSETFROM:+0200
TZOFFSETTO:+0100
TZNAME:CET
DTSTART:20271031T010000
END:STANDARD
END:VTIMEZONE
BEGIN:VEVENT
DTSTART;TZID=Europe/Zurich:20260317T143000
DTEND;TZID=Europe/Zurich:20260317T170000
DTSTAMP:20260419T235035
CREATED:20251116T153148Z
LAST-MODIFIED:20260317T150448Z
UID:10001280-1773757800-1773766800@www.feg-gais.ch
SUMMARY:65+
DESCRIPTION:
URL:https://www.feg-gais.ch/event/65-7/
LOCATION:FEG Gais\, Gaiserau 46\, Gais\, Appenzell Ausserrhoden\, 9056\, Switzerland
GEO:47.3592607;9.4506805
X-APPLE-STRUCTURED-LOCATION;VALUE=URI;X-ADDRESS=FEG Gais Gaiserau 46 Gais Appenzell Ausserrhoden 9056 Switzerland;X-APPLE-RADIUS=500;X-TITLE=Gaiserau 46:geo:9.4506805,47.3592607
END:VEVENT
BEGIN:VEVENT
DTSTART;TZID=Europe/Zurich:20260318T140000
DTEND;TZID=Europe/Zurich:20260318T160000
DTSTAMP:20260419T235035
CREATED:20251209T083423Z
LAST-MODIFIED:20260318T143348Z
UID:10001402-1773842400-1773849600@www.feg-gais.ch
SUMMARY:Strick-Café
DESCRIPTION:
URL:https://www.feg-gais.ch/event/strick-cafe-25/
LOCATION:FEG Gais\, Gaiserau 46\, Gais\, Appenzell Ausserrhoden\, 9056\, Switzerland
GEO:47.3592607;9.4506805
X-APPLE-STRUCTURED-LOCATION;VALUE=URI;X-ADDRESS=FEG Gais Gaiserau 46 Gais Appenzell Ausserrhoden 9056 Switzerland;X-APPLE-RADIUS=500;X-TITLE=Gaiserau 46:geo:9.4506805,47.3592607
END:VEVENT
BEGIN:VEVENT
DTSTART;TZID=Europe/Zurich:20260321T100000
DTEND;TZID=Europe/Zurich:20260321T170000
DTSTAMP:20260419T235035
CREATED:20251210T090359Z
LAST-MODIFIED:20260321T151917Z
UID:10001444-1774087200-1774112400@www.feg-gais.ch
SUMMARY:Jungschar Rotbachtal
DESCRIPTION:
URL:https://www.feg-gais.ch/event/jungschar-rotbachtal-9/
LOCATION:FEG Gais\, Gaiserau 46\, Gais\, Appenzell Ausserrhoden\, 9056\, Switzerland
GEO:47.3592607;9.4506805
X-APPLE-STRUCTURED-LOCATION;VALUE=URI;X-ADDRESS=FEG Gais Gaiserau 46 Gais Appenzell Ausserrhoden 9056 Switzerland;X-APPLE-RADIUS=500;X-TITLE=Gaiserau 46:geo:9.4506805,47.3592607
END:VEVENT
BEGIN:VEVENT
DTSTART;TZID=Europe/Zurich:20260321T183000
DTEND;TZID=Europe/Zurich:20260321T213000
DTSTAMP:20260419T235035
CREATED:20251209T083423Z
LAST-MODIFIED:20260321T200247Z
UID:10001403-1774117800-1774128600@www.feg-gais.ch
SUMMARY:Hangout
DESCRIPTION:
URL:https://www.feg-gais.ch/event/hangout-8/
LOCATION:FEG Gais\, Gaiserau 46\, Gais\, Appenzell Ausserrhoden\, 9056\, Switzerland
GEO:47.3592607;9.4506805
X-APPLE-STRUCTURED-LOCATION;VALUE=URI;X-ADDRESS=FEG Gais Gaiserau 46 Gais Appenzell Ausserrhoden 9056 Switzerland;X-APPLE-RADIUS=500;X-TITLE=Gaiserau 46:geo:9.4506805,47.3592607
END:VEVENT
BEGIN:VEVENT
DTSTART;TZID=Europe/Zurich:20260322T093000
DTEND;TZID=Europe/Zurich:20260322T104500
DTSTAMP:20260419T235035
CREATED:20251202T133425Z
LAST-MODIFIED:20260322T084816Z
UID:10001379-1774171800-1774176300@www.feg-gais.ch
SUMMARY:FollowMe
DESCRIPTION:
URL:https://www.feg-gais.ch/event/followme-12/
LOCATION:FEG Gais\, Gaiserau 46\, Gais\, Appenzell Ausserrhoden\, 9056\, Switzerland
GEO:47.3592607;9.4506805
X-APPLE-STRUCTURED-LOCATION;VALUE=URI;X-ADDRESS=FEG Gais Gaiserau 46 Gais Appenzell Ausserrhoden 9056 Switzerland;X-APPLE-RADIUS=500;X-TITLE=Gaiserau 46:geo:9.4506805,47.3592607
END:VEVENT
BEGIN:VEVENT
DTSTART;TZID=Europe/Zurich:20260322T093000
DTEND;TZID=Europe/Zurich:20260322T110000
DTSTAMP:20260419T235035
CREATED:20251116T153148Z
LAST-MODIFIED:20260322T094728Z
UID:10001281-1774171800-1774177200@www.feg-gais.ch
SUMMARY:Gottesdienst mit Rafael Bähler
DESCRIPTION:KidsTreff | Kinderhort \n Kids-Treff-Sonntagsverkauf (Gebäck) zugunsten Antonia Enzler
URL:https://www.feg-gais.ch/event/gottesdienst-mit-rafael-baehler/
LOCATION:FEG Gais\, Gaiserau 46\, Gais\, Appenzell Ausserrhoden\, 9056\, Switzerland
GEO:47.3592607;9.4506805
X-APPLE-STRUCTURED-LOCATION;VALUE=URI;X-ADDRESS=FEG Gais Gaiserau 46 Gais Appenzell Ausserrhoden 9056 Switzerland;X-APPLE-RADIUS=500;X-TITLE=Gaiserau 46:geo:9.4506805,47.3592607
END:VEVENT
BEGIN:VEVENT
DTSTART;TZID=Europe/Zurich:20260322T185000
DTEND;TZID=Europe/Zurich:20260322T203000
DTSTAMP:20260419T235035
CREATED:20260313T210716Z
LAST-MODIFIED:20260322T183322Z
UID:10001458-1774205400-1774211400@www.feg-gais.ch
SUMMARY:Sunday Night Gais
DESCRIPTION:
URL:https://www.feg-gais.ch/event/sunday-night-gais/
LOCATION:FEG Gais\, Gaiserau 46\, Gais\, Appenzell Ausserrhoden\, 9056\, Switzerland
GEO:47.3592607;9.4506805
X-APPLE-STRUCTURED-LOCATION;VALUE=URI;X-ADDRESS=FEG Gais Gaiserau 46 Gais Appenzell Ausserrhoden 9056 Switzerland;X-APPLE-RADIUS=500;X-TITLE=Gaiserau 46:geo:9.4506805,47.3592607
END:VEVENT
END:VCALENDAR