BEGIN:VCALENDAR
VERSION:2.0
PRODID:-//FEG Gais - ECPv6.15.20//NONSGML v1.0//EN
CALSCALE:GREGORIAN
METHOD:PUBLISH
X-ORIGINAL-URL:https://www.feg-gais.ch
X-WR-CALDESC:Veranstaltungen für FEG Gais
REFRESH-INTERVAL;VALUE=DURATION:PT1H
X-Robots-Tag:noindex
X-PUBLISHED-TTL:PT1H
BEGIN:VTIMEZONE
TZID:Europe/Zurich
BEGIN:DAYLIGHT
TZOFFSETFROM:+0100
TZOFFSETTO:+0200
TZNAME:CEST
DTSTART:20250330T010000
END:DAYLIGHT
BEGIN:STANDARD
TZOFFSETFROM:+0200
TZOFFSETTO:+0100
TZNAME:CET
DTSTART:20251026T010000
END:STANDARD
BEGIN:DAYLIGHT
TZOFFSETFROM:+0100
TZOFFSETTO:+0200
TZNAME:CEST
DTSTART:20260329T010000
END:DAYLIGHT
BEGIN:STANDARD
TZOFFSETFROM:+0200
TZOFFSETTO:+0100
TZNAME:CET
DTSTART:20261025T010000
END:STANDARD
BEGIN:DAYLIGHT
TZOFFSETFROM:+0100
TZOFFSETTO:+0200
TZNAME:CEST
DTSTART:20270328T010000
END:DAYLIGHT
BEGIN:STANDARD
TZOFFSETFROM:+0200
TZOFFSETTO:+0100
TZNAME:CET
DTSTART:20271031T010000
END:STANDARD
END:VTIMEZONE
BEGIN:VEVENT
DTSTART;TZID=Europe/Zurich:20260127T193000
DTEND;TZID=Europe/Zurich:20260127T203000
DTSTAMP:20260420T005928
CREATED:20251116T153115Z
LAST-MODIFIED:20260127T183230Z
UID:10001264-1769542200-1769545800@www.feg-gais.ch
SUMMARY:Gebetsabend
DESCRIPTION:
URL:https://www.feg-gais.ch/event/gebetsabend-9/
LOCATION:FEG Gais\, Gaiserau 46\, Gais\, Appenzell Ausserrhoden\, 9056\, Switzerland
GEO:47.3592607;9.4506805
X-APPLE-STRUCTURED-LOCATION;VALUE=URI;X-ADDRESS=FEG Gais Gaiserau 46 Gais Appenzell Ausserrhoden 9056 Switzerland;X-APPLE-RADIUS=500;X-TITLE=Gaiserau 46:geo:9.4506805,47.3592607
END:VEVENT
BEGIN:VEVENT
DTSTART;TZID=Europe/Zurich:20260128T140000
DTEND;TZID=Europe/Zurich:20260128T160000
DTSTAMP:20260420T005928
CREATED:20251209T083335Z
LAST-MODIFIED:20260128T140235Z
UID:10001389-1769608800-1769616000@www.feg-gais.ch
SUMMARY:Strick-Café
DESCRIPTION:
URL:https://www.feg-gais.ch/event/strick-cafe-18/
LOCATION:FEG Gais\, Gaiserau 46\, Gais\, Appenzell Ausserrhoden\, 9056\, Switzerland
GEO:47.3592607;9.4506805
X-APPLE-STRUCTURED-LOCATION;VALUE=URI;X-ADDRESS=FEG Gais Gaiserau 46 Gais Appenzell Ausserrhoden 9056 Switzerland;X-APPLE-RADIUS=500;X-TITLE=Gaiserau 46:geo:9.4506805,47.3592607
END:VEVENT
BEGIN:VEVENT
DTSTART;TZID=Europe/Zurich:20260128T190000
DTEND;TZID=Europe/Zurich:20260128T210000
DTSTAMP:20260420T005928
CREATED:20251209T083335Z
LAST-MODIFIED:20260128T194733Z
UID:10001390-1769626800-1769634000@www.feg-gais.ch
SUMMARY:Feuerabend Appenzell
DESCRIPTION:Lagerfeuer\, Gemeinschaft\, Austausch\, Grillieren\, Lebensfragen & Herausforderungen\, Antworten \n Für Männer zw. 18 und 45 Jahren. Keine Anmeldungen erforderlich. Getränke und Essen selber mitbringen.
URL:https://www.feg-gais.ch/event/feuerabend-appenzell/
LOCATION:Feuerstelle Horstbach
END:VEVENT
BEGIN:VEVENT
DTSTART;TZID=Europe/Zurich:20260131T190000
DTEND;TZID=Europe/Zurich:20260131T213000
DTSTAMP:20260420T005928
CREATED:20251209T083335Z
LAST-MODIFIED:20260131T193340Z
UID:10001391-1769886000-1769895000@www.feg-gais.ch
SUMMARY:Connect
DESCRIPTION:für Jugendliche ab 16 Jahren
URL:https://www.feg-gais.ch/event/connect-9/
LOCATION:FEG Gais\, Gaiserau 46\, Gais\, Appenzell Ausserrhoden\, 9056\, Switzerland
GEO:47.3592607;9.4506805
X-APPLE-STRUCTURED-LOCATION;VALUE=URI;X-ADDRESS=FEG Gais Gaiserau 46 Gais Appenzell Ausserrhoden 9056 Switzerland;X-APPLE-RADIUS=500;X-TITLE=Gaiserau 46:geo:9.4506805,47.3592607
END:VEVENT
BEGIN:VEVENT
DTSTART;TZID=Europe/Zurich:20260201T093000
DTEND;TZID=Europe/Zurich:20260201T104500
DTSTAMP:20260420T005928
CREATED:20251202T133343Z
LAST-MODIFIED:20251206T151813Z
UID:10001375-1769938200-1769942700@www.feg-gais.ch
SUMMARY:FollowMe
DESCRIPTION:
URL:https://www.feg-gais.ch/event/followme-10/
LOCATION:FEG Gais\, Gaiserau 46\, Gais\, Appenzell Ausserrhoden\, 9056\, Switzerland
GEO:47.3592607;9.4506805
X-APPLE-STRUCTURED-LOCATION;VALUE=URI;X-ADDRESS=FEG Gais Gaiserau 46 Gais Appenzell Ausserrhoden 9056 Switzerland;X-APPLE-RADIUS=500;X-TITLE=Gaiserau 46:geo:9.4506805,47.3592607
END:VEVENT
BEGIN:VEVENT
DTSTART;TZID=Europe/Zurich:20260201T093000
DTEND;TZID=Europe/Zurich:20260201T110000
DTSTAMP:20260420T005928
CREATED:20251116T153115Z
LAST-MODIFIED:20260201T084804Z
UID:10001265-1769938200-1769943600@www.feg-gais.ch
SUMMARY:Gottesdienst mit Joachim Heina
DESCRIPTION:Kinderhort | KidsTreff
URL:https://www.feg-gais.ch/event/gottesdienst-mit-joachim-heina-12/
LOCATION:FEG Gais\, Gaiserau 46\, Gais\, Appenzell Ausserrhoden\, 9056\, Switzerland
GEO:47.3592607;9.4506805
X-APPLE-STRUCTURED-LOCATION;VALUE=URI;X-ADDRESS=FEG Gais Gaiserau 46 Gais Appenzell Ausserrhoden 9056 Switzerland;X-APPLE-RADIUS=500;X-TITLE=Gaiserau 46:geo:9.4506805,47.3592607
END:VEVENT
END:VCALENDAR