BEGIN:VCALENDAR
VERSION:2.0
PRODID:-//FEG Gais - ECPv6.15.20//NONSGML v1.0//EN
CALSCALE:GREGORIAN
METHOD:PUBLISH
X-WR-CALNAME:FEG Gais
X-ORIGINAL-URL:https://www.feg-gais.ch
X-WR-CALDESC:Veranstaltungen für FEG Gais
REFRESH-INTERVAL;VALUE=DURATION:PT1H
X-Robots-Tag:noindex
X-PUBLISHED-TTL:PT1H
BEGIN:VTIMEZONE
TZID:Europe/Zurich
BEGIN:DAYLIGHT
TZOFFSETFROM:+0100
TZOFFSETTO:+0200
TZNAME:CEST
DTSTART:20250330T010000
END:DAYLIGHT
BEGIN:STANDARD
TZOFFSETFROM:+0200
TZOFFSETTO:+0100
TZNAME:CET
DTSTART:20251026T010000
END:STANDARD
BEGIN:DAYLIGHT
TZOFFSETFROM:+0100
TZOFFSETTO:+0200
TZNAME:CEST
DTSTART:20260329T010000
END:DAYLIGHT
BEGIN:STANDARD
TZOFFSETFROM:+0200
TZOFFSETTO:+0100
TZNAME:CET
DTSTART:20261025T010000
END:STANDARD
BEGIN:DAYLIGHT
TZOFFSETFROM:+0100
TZOFFSETTO:+0200
TZNAME:CEST
DTSTART:20270328T010000
END:DAYLIGHT
BEGIN:STANDARD
TZOFFSETFROM:+0200
TZOFFSETTO:+0100
TZNAME:CET
DTSTART:20271031T010000
END:STANDARD
END:VTIMEZONE
BEGIN:VEVENT
DTSTART;TZID=Europe/Zurich:20261201T143000
DTEND;TZID=Europe/Zurich:20261201T170000
DTSTAMP:20260424T135456
CREATED:20251116T153419Z
LAST-MODIFIED:20260424T115020Z
UID:10001364-1796135400-1796144400@www.feg-gais.ch
SUMMARY:65+
DESCRIPTION:
URL:https://www.feg-gais.ch/event/65-15/
LOCATION:FEG Gais\, Gaiserau 46\, Gais\, Appenzell Ausserrhoden\, 9056\, Switzerland
GEO:47.3592607;9.4506805
X-APPLE-STRUCTURED-LOCATION;VALUE=URI;X-ADDRESS=FEG Gais Gaiserau 46 Gais Appenzell Ausserrhoden 9056 Switzerland;X-APPLE-RADIUS=500;X-TITLE=Gaiserau 46:geo:9.4506805,47.3592607
END:VEVENT
BEGIN:VEVENT
DTSTART;TZID=Europe/Zurich:20261201T193000
DTEND;TZID=Europe/Zurich:20261201T203000
DTSTAMP:20260424T135456
CREATED:20251116T153419Z
LAST-MODIFIED:20260424T115021Z
UID:10001365-1796153400-1796157000@www.feg-gais.ch
SUMMARY:Gebetsabend
DESCRIPTION:
URL:https://www.feg-gais.ch/event/gebetsabend-22/
LOCATION:FEG Gais\, Gaiserau 46\, Gais\, Appenzell Ausserrhoden\, 9056\, Switzerland
GEO:47.3592607;9.4506805
X-APPLE-STRUCTURED-LOCATION;VALUE=URI;X-ADDRESS=FEG Gais Gaiserau 46 Gais Appenzell Ausserrhoden 9056 Switzerland;X-APPLE-RADIUS=500;X-TITLE=Gaiserau 46:geo:9.4506805,47.3592607
END:VEVENT
BEGIN:VEVENT
DTSTART;TZID=Europe/Zurich:20261202T120000
DTEND;TZID=Europe/Zurich:20261202T133000
DTSTAMP:20260424T135456
CREATED:20251116T153420Z
LAST-MODIFIED:20260424T115021Z
UID:10001366-1796212800-1796218200@www.feg-gais.ch
SUMMARY:Mittagstisch
DESCRIPTION:
URL:https://www.feg-gais.ch/event/mittagstisch-21/
LOCATION:FEG Gais\, Gaiserau 46\, Gais\, Appenzell Ausserrhoden\, 9056\, Switzerland
GEO:47.3592607;9.4506805
X-APPLE-STRUCTURED-LOCATION;VALUE=URI;X-ADDRESS=FEG Gais Gaiserau 46 Gais Appenzell Ausserrhoden 9056 Switzerland;X-APPLE-RADIUS=500;X-TITLE=Gaiserau 46:geo:9.4506805,47.3592607
END:VEVENT
BEGIN:VEVENT
DTSTART;TZID=Europe/Zurich:20261205T190000
DTEND;TZID=Europe/Zurich:20261205T213000
DTSTAMP:20260424T135456
CREATED:20251209T083806Z
LAST-MODIFIED:20260424T115021Z
UID:10001440-1796497200-1796506200@www.feg-gais.ch
SUMMARY:Connect
DESCRIPTION:für Jugendliche ab 16 Jahren
URL:https://www.feg-gais.ch/event/connect-23/
LOCATION:FEG Gais\, Gaiserau 46\, Gais\, Appenzell Ausserrhoden\, 9056\, Switzerland
GEO:47.3592607;9.4506805
X-APPLE-STRUCTURED-LOCATION;VALUE=URI;X-ADDRESS=FEG Gais Gaiserau 46 Gais Appenzell Ausserrhoden 9056 Switzerland;X-APPLE-RADIUS=500;X-TITLE=Gaiserau 46:geo:9.4506805,47.3592607
END:VEVENT
BEGIN:VEVENT
DTSTART;TZID=Europe/Zurich:20261206T093000
DTEND;TZID=Europe/Zurich:20261206T110000
DTSTAMP:20260424T135456
CREATED:20251116T153420Z
LAST-MODIFIED:20260424T115021Z
UID:10001367-1796549400-1796554800@www.feg-gais.ch
SUMMARY:Gottesdienst mit Joachim Heina
DESCRIPTION:Kinderhort | KidsTreff
URL:https://www.feg-gais.ch/event/gottesdienst-7/
LOCATION:FEG Gais\, Gaiserau 46\, Gais\, Appenzell Ausserrhoden\, 9056\, Switzerland
GEO:47.3592607;9.4506805
X-APPLE-STRUCTURED-LOCATION;VALUE=URI;X-ADDRESS=FEG Gais Gaiserau 46 Gais Appenzell Ausserrhoden 9056 Switzerland;X-APPLE-RADIUS=500;X-TITLE=Gaiserau 46:geo:9.4506805,47.3592607
END:VEVENT
BEGIN:VEVENT
DTSTART;TZID=Europe/Zurich:20261208T143000
DTEND;TZID=Europe/Zurich:20261208T153000
DTSTAMP:20260424T135456
CREATED:20251116T153420Z
LAST-MODIFIED:20260424T115021Z
UID:10001368-1796740200-1796743800@www.feg-gais.ch
SUMMARY:Bibelstunde
DESCRIPTION:
URL:https://www.feg-gais.ch/event/bibelstunde-17/
LOCATION:FEG Gais\, Gaiserau 46\, Gais\, Appenzell Ausserrhoden\, 9056\, Switzerland
GEO:47.3592607;9.4506805
X-APPLE-STRUCTURED-LOCATION;VALUE=URI;X-ADDRESS=FEG Gais Gaiserau 46 Gais Appenzell Ausserrhoden 9056 Switzerland;X-APPLE-RADIUS=500;X-TITLE=Gaiserau 46:geo:9.4506805,47.3592607
END:VEVENT
BEGIN:VEVENT
DTSTART;TZID=Europe/Zurich:20261212T100000
DTEND;TZID=Europe/Zurich:20261212T170000
DTSTAMP:20260424T135456
CREATED:20251221T100726Z
LAST-MODIFIED:20260424T115021Z
UID:10001453-1797069600-1797094800@www.feg-gais.ch
SUMMARY:Jungschar Rotbachtal
DESCRIPTION:
URL:https://www.feg-gais.ch/event/jungschar-rotbachtal-15/
LOCATION:FEG Gais\, Gaiserau 46\, Gais\, Appenzell Ausserrhoden\, 9056\, Switzerland
GEO:47.3592607;9.4506805
X-APPLE-STRUCTURED-LOCATION;VALUE=URI;X-ADDRESS=FEG Gais Gaiserau 46 Gais Appenzell Ausserrhoden 9056 Switzerland;X-APPLE-RADIUS=500;X-TITLE=Gaiserau 46:geo:9.4506805,47.3592607
END:VEVENT
BEGIN:VEVENT
DTSTART;TZID=Europe/Zurich:20261213T093000
DTEND;TZID=Europe/Zurich:20261213T110000
DTSTAMP:20260424T135456
CREATED:20251116T153421Z
LAST-MODIFIED:20260424T115021Z
UID:10001369-1797154200-1797159600@www.feg-gais.ch
SUMMARY:Gottesdienst
DESCRIPTION:Kinderhort | KidsTreff
URL:https://www.feg-gais.ch/event/gottesdienst-8/
LOCATION:FEG Gais\, Gaiserau 46\, Gais\, Appenzell Ausserrhoden\, 9056\, Switzerland
GEO:47.3592607;9.4506805
X-APPLE-STRUCTURED-LOCATION;VALUE=URI;X-ADDRESS=FEG Gais Gaiserau 46 Gais Appenzell Ausserrhoden 9056 Switzerland;X-APPLE-RADIUS=500;X-TITLE=Gaiserau 46:geo:9.4506805,47.3592607
END:VEVENT
BEGIN:VEVENT
DTSTART;TZID=Europe/Zurich:20261219T183000
DTEND;TZID=Europe/Zurich:20261219T213000
DTSTAMP:20260424T135456
CREATED:20251209T083807Z
LAST-MODIFIED:20260424T115021Z
UID:10001441-1797705000-1797715800@www.feg-gais.ch
SUMMARY:Hangout
DESCRIPTION:
URL:https://www.feg-gais.ch/event/hangout-14/
LOCATION:FEG Gais\, Gaiserau 46\, Gais\, Appenzell Ausserrhoden\, 9056\, Switzerland
GEO:47.3592607;9.4506805
X-APPLE-STRUCTURED-LOCATION;VALUE=URI;X-ADDRESS=FEG Gais Gaiserau 46 Gais Appenzell Ausserrhoden 9056 Switzerland;X-APPLE-RADIUS=500;X-TITLE=Gaiserau 46:geo:9.4506805,47.3592607
END:VEVENT
BEGIN:VEVENT
DTSTART;TZID=Europe/Zurich:20261220T093000
DTEND;TZID=Europe/Zurich:20261220T110000
DTSTAMP:20260424T135456
CREATED:20251116T153438Z
LAST-MODIFIED:20260424T115021Z
UID:10001370-1797759000-1797764400@www.feg-gais.ch
SUMMARY:Gottesdienst
DESCRIPTION:Kinderhort | KidsTreff
URL:https://www.feg-gais.ch/event/gottesdienst-9/
LOCATION:FEG Gais\, Gaiserau 46\, Gais\, Appenzell Ausserrhoden\, 9056\, Switzerland
GEO:47.3592607;9.4506805
X-APPLE-STRUCTURED-LOCATION;VALUE=URI;X-ADDRESS=FEG Gais Gaiserau 46 Gais Appenzell Ausserrhoden 9056 Switzerland;X-APPLE-RADIUS=500;X-TITLE=Gaiserau 46:geo:9.4506805,47.3592607
END:VEVENT
BEGIN:VEVENT
DTSTART;TZID=Europe/Zurich:20261225T093000
DTEND;TZID=Europe/Zurich:20261225T110000
DTSTAMP:20260424T135456
CREATED:20251116T153439Z
LAST-MODIFIED:20260424T115034Z
UID:10001371-1798191000-1798196400@www.feg-gais.ch
SUMMARY:Gottesdienst
DESCRIPTION:Kinderhort | KidsTreff
URL:https://www.feg-gais.ch/event/gottesdienst-10/
LOCATION:FEG Gais\, Gaiserau 46\, Gais\, Appenzell Ausserrhoden\, 9056\, Switzerland
GEO:47.3592607;9.4506805
X-APPLE-STRUCTURED-LOCATION;VALUE=URI;X-ADDRESS=FEG Gais Gaiserau 46 Gais Appenzell Ausserrhoden 9056 Switzerland;X-APPLE-RADIUS=500;X-TITLE=Gaiserau 46:geo:9.4506805,47.3592607
END:VEVENT
END:VCALENDAR