BEGIN:VCALENDAR
VERSION:2.0
PRODID:-//FEG Gais - ECPv6.15.20//NONSGML v1.0//EN
CALSCALE:GREGORIAN
METHOD:PUBLISH
X-WR-CALNAME:FEG Gais
X-ORIGINAL-URL:https://www.feg-gais.ch
X-WR-CALDESC:Veranstaltungen für FEG Gais
REFRESH-INTERVAL;VALUE=DURATION:PT1H
X-Robots-Tag:noindex
X-PUBLISHED-TTL:PT1H
BEGIN:VTIMEZONE
TZID:Europe/Zurich
BEGIN:DAYLIGHT
TZOFFSETFROM:+0100
TZOFFSETTO:+0200
TZNAME:CEST
DTSTART:20250330T010000
END:DAYLIGHT
BEGIN:STANDARD
TZOFFSETFROM:+0200
TZOFFSETTO:+0100
TZNAME:CET
DTSTART:20251026T010000
END:STANDARD
BEGIN:DAYLIGHT
TZOFFSETFROM:+0100
TZOFFSETTO:+0200
TZNAME:CEST
DTSTART:20260329T010000
END:DAYLIGHT
BEGIN:STANDARD
TZOFFSETFROM:+0200
TZOFFSETTO:+0100
TZNAME:CET
DTSTART:20261025T010000
END:STANDARD
BEGIN:DAYLIGHT
TZOFFSETFROM:+0100
TZOFFSETTO:+0200
TZNAME:CEST
DTSTART:20270328T010000
END:DAYLIGHT
BEGIN:STANDARD
TZOFFSETFROM:+0200
TZOFFSETTO:+0100
TZNAME:CET
DTSTART:20271031T010000
END:STANDARD
END:VTIMEZONE
BEGIN:VEVENT
DTSTART;TZID=Europe/Zurich:20260602T193000
DTEND;TZID=Europe/Zurich:20260602T203000
DTSTAMP:20260419T234846
CREATED:20251116T153238Z
LAST-MODIFIED:20260419T204932Z
UID:10001311-1780428600-1780432200@www.feg-gais.ch
SUMMARY:Gebetsabend
DESCRIPTION:
URL:https://www.feg-gais.ch/event/gebetsabend-14/
LOCATION:FEG Gais\, Gaiserau 46\, Gais\, Appenzell Ausserrhoden\, 9056\, Switzerland
GEO:47.3592607;9.4506805
X-APPLE-STRUCTURED-LOCATION;VALUE=URI;X-ADDRESS=FEG Gais Gaiserau 46 Gais Appenzell Ausserrhoden 9056 Switzerland;X-APPLE-RADIUS=500;X-TITLE=Gaiserau 46:geo:9.4506805,47.3592607
END:VEVENT
BEGIN:VEVENT
DTSTART;TZID=Europe/Zurich:20260603T120000
DTEND;TZID=Europe/Zurich:20260603T133000
DTSTAMP:20260419T234846
CREATED:20251116T153238Z
LAST-MODIFIED:20260419T204932Z
UID:10001312-1780488000-1780493400@www.feg-gais.ch
SUMMARY:Mittagstisch
DESCRIPTION:
URL:https://www.feg-gais.ch/event/mittagstisch-15/
LOCATION:FEG Gais\, Gaiserau 46\, Gais\, Appenzell Ausserrhoden\, 9056\, Switzerland
GEO:47.3592607;9.4506805
X-APPLE-STRUCTURED-LOCATION;VALUE=URI;X-ADDRESS=FEG Gais Gaiserau 46 Gais Appenzell Ausserrhoden 9056 Switzerland;X-APPLE-RADIUS=500;X-TITLE=Gaiserau 46:geo:9.4506805,47.3592607
END:VEVENT
BEGIN:VEVENT
DTSTART;TZID=Europe/Zurich:20260603T140000
DTEND;TZID=Europe/Zurich:20260603T160000
DTSTAMP:20260419T234846
CREATED:20251209T083601Z
LAST-MODIFIED:20260419T204933Z
UID:10001422-1780495200-1780502400@www.feg-gais.ch
SUMMARY:Strick-Café
DESCRIPTION:
URL:https://www.feg-gais.ch/event/strick-cafe-36/
LOCATION:FEG Gais\, Gaiserau 46\, Gais\, Appenzell Ausserrhoden\, 9056\, Switzerland
GEO:47.3592607;9.4506805
X-APPLE-STRUCTURED-LOCATION;VALUE=URI;X-ADDRESS=FEG Gais Gaiserau 46 Gais Appenzell Ausserrhoden 9056 Switzerland;X-APPLE-RADIUS=500;X-TITLE=Gaiserau 46:geo:9.4506805,47.3592607
END:VEVENT
BEGIN:VEVENT
DTSTART;TZID=Europe/Zurich:20260605T193000
DTEND;TZID=Europe/Zurich:20260605T210000
DTSTAMP:20260419T234846
CREATED:20260226T093634Z
LAST-MODIFIED:20260419T204933Z
UID:10001456-1780687800-1780693200@www.feg-gais.ch
SUMMARY:Talk über 'Gott und die Welt' an der Piano-Bar | Dorfpark Gais
DESCRIPTION:Wir drei Pfarrer erzählen aus unserem Leben und unterhalten uns über unseren Glauben. Mit Fragen aus dem Publikum und Apéro.
URL:https://www.feg-gais.ch/event/talk-ueber-gott-und-die-welt-an-der-piano-bar-dorfpark-gais/
LOCATION:Dorfpark Gais
END:VEVENT
BEGIN:VEVENT
DTSTART;VALUE=DATE:20260606
DTEND;VALUE=DATE:20260609
DTSTAMP:20260419T234846
CREATED:20260212T171954Z
LAST-MODIFIED:20260419T204933Z
UID:10001455-1780711200-1780883999@www.feg-gais.ch
SUMMARY:Hangout-Weekend
DESCRIPTION:
URL:https://www.feg-gais.ch/event/hangout-weekend/
LOCATION:FEG Gais\, Gaiserau 46\, Gais\, Appenzell Ausserrhoden\, 9056\, Switzerland
GEO:47.3592607;9.4506805
X-APPLE-STRUCTURED-LOCATION;VALUE=URI;X-ADDRESS=FEG Gais Gaiserau 46 Gais Appenzell Ausserrhoden 9056 Switzerland;X-APPLE-RADIUS=500;X-TITLE=Gaiserau 46:geo:9.4506805,47.3592607
END:VEVENT
BEGIN:VEVENT
DTSTART;TZID=Europe/Zurich:20260606T190000
DTEND;TZID=Europe/Zurich:20260606T213000
DTSTAMP:20260419T234846
CREATED:20251209T083602Z
LAST-MODIFIED:20260419T204933Z
UID:10001423-1780772400-1780781400@www.feg-gais.ch
SUMMARY:Connect
DESCRIPTION:für Jugendliche ab 16 Jahren
URL:https://www.feg-gais.ch/event/connect-15/
LOCATION:FEG Gais\, Gaiserau 46\, Gais\, Appenzell Ausserrhoden\, 9056\, Switzerland
GEO:47.3592607;9.4506805
X-APPLE-STRUCTURED-LOCATION;VALUE=URI;X-ADDRESS=FEG Gais Gaiserau 46 Gais Appenzell Ausserrhoden 9056 Switzerland;X-APPLE-RADIUS=500;X-TITLE=Gaiserau 46:geo:9.4506805,47.3592607
END:VEVENT
BEGIN:VEVENT
DTSTART;TZID=Europe/Zurich:20260607T093000
DTEND;TZID=Europe/Zurich:20260607T104500
DTSTAMP:20260419T234846
CREATED:20251202T133510Z
LAST-MODIFIED:20260212T160458Z
UID:10001383-1780824600-1780829100@www.feg-gais.ch
SUMMARY:FollowMe
DESCRIPTION:
URL:https://www.feg-gais.ch/event/followme-15/
LOCATION:FEG Gais\, Gaiserau 46\, Gais\, Appenzell Ausserrhoden\, 9056\, Switzerland
GEO:47.3592607;9.4506805
X-APPLE-STRUCTURED-LOCATION;VALUE=URI;X-ADDRESS=FEG Gais Gaiserau 46 Gais Appenzell Ausserrhoden 9056 Switzerland;X-APPLE-RADIUS=500;X-TITLE=Gaiserau 46:geo:9.4506805,47.3592607
END:VEVENT
BEGIN:VEVENT
DTSTART;TZID=Europe/Zurich:20260607T093000
DTEND;TZID=Europe/Zurich:20260607T110000
DTSTAMP:20260419T234846
CREATED:20251116T153238Z
LAST-MODIFIED:20260419T204933Z
UID:10001313-1780824600-1780830000@www.feg-gais.ch
SUMMARY:Gottesdienst mit Joachim Heina
DESCRIPTION:Kinderhort | KidsTreff | Abendmahl
URL:https://www.feg-gais.ch/event/gottesdienst-von-joachim-heina-7/
LOCATION:FEG Gais\, Gaiserau 46\, Gais\, Appenzell Ausserrhoden\, 9056\, Switzerland
GEO:47.3592607;9.4506805
X-APPLE-STRUCTURED-LOCATION;VALUE=URI;X-ADDRESS=FEG Gais Gaiserau 46 Gais Appenzell Ausserrhoden 9056 Switzerland;X-APPLE-RADIUS=500;X-TITLE=Gaiserau 46:geo:9.4506805,47.3592607
END:VEVENT
BEGIN:VEVENT
DTSTART;TZID=Europe/Zurich:20260607T185000
DTEND;TZID=Europe/Zurich:20260607T203000
DTSTAMP:20260419T234846
CREATED:20260402T123344Z
LAST-MODIFIED:20260419T204945Z
UID:10001465-1780858200-1780864200@www.feg-gais.ch
SUMMARY:Sunday Night
DESCRIPTION:Türöffnung: 18.30 Uhr | Live Übertragung aus dem ICF Zürich
URL:https://www.feg-gais.ch/event/sunday-night-6/
LOCATION:FEG Gais\, Gaiserau 46\, Gais\, Appenzell Ausserrhoden\, 9056\, Switzerland
GEO:47.3592607;9.4506805
X-APPLE-STRUCTURED-LOCATION;VALUE=URI;X-ADDRESS=FEG Gais Gaiserau 46 Gais Appenzell Ausserrhoden 9056 Switzerland;X-APPLE-RADIUS=500;X-TITLE=Gaiserau 46:geo:9.4506805,47.3592607
END:VEVENT
BEGIN:VEVENT
DTSTART;TZID=Europe/Zurich:20260609T143000
DTEND;TZID=Europe/Zurich:20260609T153000
DTSTAMP:20260419T234846
CREATED:20251116T153253Z
LAST-MODIFIED:20260419T204946Z
UID:10001314-1781015400-1781019000@www.feg-gais.ch
SUMMARY:Bibelstunde
DESCRIPTION:
URL:https://www.feg-gais.ch/event/bibelstunde-12/
LOCATION:FEG Gais\, Gaiserau 46\, Gais\, Appenzell Ausserrhoden\, 9056\, Switzerland
GEO:47.3592607;9.4506805
X-APPLE-STRUCTURED-LOCATION;VALUE=URI;X-ADDRESS=FEG Gais Gaiserau 46 Gais Appenzell Ausserrhoden 9056 Switzerland;X-APPLE-RADIUS=500;X-TITLE=Gaiserau 46:geo:9.4506805,47.3592607
END:VEVENT
BEGIN:VEVENT
DTSTART;TZID=Europe/Zurich:20260610T140000
DTEND;TZID=Europe/Zurich:20260610T160000
DTSTAMP:20260419T234846
CREATED:20251209T083603Z
LAST-MODIFIED:20260419T204946Z
UID:10001424-1781100000-1781107200@www.feg-gais.ch
SUMMARY:Strick-Café
DESCRIPTION:
URL:https://www.feg-gais.ch/event/strick-cafe-37/
LOCATION:FEG Gais\, Gaiserau 46\, Gais\, Appenzell Ausserrhoden\, 9056\, Switzerland
GEO:47.3592607;9.4506805
X-APPLE-STRUCTURED-LOCATION;VALUE=URI;X-ADDRESS=FEG Gais Gaiserau 46 Gais Appenzell Ausserrhoden 9056 Switzerland;X-APPLE-RADIUS=500;X-TITLE=Gaiserau 46:geo:9.4506805,47.3592607
END:VEVENT
BEGIN:VEVENT
DTSTART;TZID=Europe/Zurich:20260613T100000
DTEND;TZID=Europe/Zurich:20260613T170000
DTSTAMP:20260419T234846
CREATED:20251210T090537Z
LAST-MODIFIED:20260419T204946Z
UID:10001447-1781344800-1781370000@www.feg-gais.ch
SUMMARY:Jungschar Rotbachtal
DESCRIPTION:
URL:https://www.feg-gais.ch/event/jungschar-rotbachtal-11/
LOCATION:FEG Gais\, Gaiserau 46\, Gais\, Appenzell Ausserrhoden\, 9056\, Switzerland
GEO:47.3592607;9.4506805
X-APPLE-STRUCTURED-LOCATION;VALUE=URI;X-ADDRESS=FEG Gais Gaiserau 46 Gais Appenzell Ausserrhoden 9056 Switzerland;X-APPLE-RADIUS=500;X-TITLE=Gaiserau 46:geo:9.4506805,47.3592607
END:VEVENT
BEGIN:VEVENT
DTSTART;TZID=Europe/Zurich:20260613T133000
DTEND;TZID=Europe/Zurich:20260613T180000
DTSTAMP:20260419T234846
CREATED:20250813T221130Z
LAST-MODIFIED:20260419T204946Z
UID:10001249-1781357400-1781373600@www.feg-gais.ch
SUMMARY:Oldtimertreffen
DESCRIPTION:
URL:https://www.feg-gais.ch/event/oldtimertreffen/
LOCATION:FEG Gais\, Gaiserau 46\, Gais\, Appenzell Ausserrhoden\, 9056\, Switzerland
GEO:47.3592607;9.4506805
X-APPLE-STRUCTURED-LOCATION;VALUE=URI;X-ADDRESS=FEG Gais Gaiserau 46 Gais Appenzell Ausserrhoden 9056 Switzerland;X-APPLE-RADIUS=500;X-TITLE=Gaiserau 46:geo:9.4506805,47.3592607
END:VEVENT
BEGIN:VEVENT
DTSTART;TZID=Europe/Zurich:20260614T100000
DTEND;TZID=Europe/Zurich:20260614T112000
DTSTAMP:20260419T234846
CREATED:20250630T202227Z
LAST-MODIFIED:20260419T204946Z
UID:10001221-1781431200-1781436000@www.feg-gais.ch
SUMMARY:Visionsgottesdienst mit Detlef Kühlein
DESCRIPTION:KidsTreff\, Kinderhort\, Kollekte für „BibleTunes“
URL:https://www.feg-gais.ch/event/visionsgottesdienst-mit-detlef-kuehlein/
LOCATION:FEG Gais\, Gaiserau 46\, Gais\, Appenzell Ausserrhoden\, 9056\, Switzerland
GEO:47.3592607;9.4506805
X-APPLE-STRUCTURED-LOCATION;VALUE=URI;X-ADDRESS=FEG Gais Gaiserau 46 Gais Appenzell Ausserrhoden 9056 Switzerland;X-APPLE-RADIUS=500;X-TITLE=Gaiserau 46:geo:9.4506805,47.3592607
END:VEVENT
BEGIN:VEVENT
DTSTART;TZID=Europe/Zurich:20260617T140000
DTEND;TZID=Europe/Zurich:20260617T160000
DTSTAMP:20260419T234846
CREATED:20251209T083617Z
LAST-MODIFIED:20260419T204947Z
UID:10001425-1781704800-1781712000@www.feg-gais.ch
SUMMARY:Strick-Café
DESCRIPTION:
URL:https://www.feg-gais.ch/event/strick-cafe-38/
LOCATION:FEG Gais\, Gaiserau 46\, Gais\, Appenzell Ausserrhoden\, 9056\, Switzerland
GEO:47.3592607;9.4506805
X-APPLE-STRUCTURED-LOCATION;VALUE=URI;X-ADDRESS=FEG Gais Gaiserau 46 Gais Appenzell Ausserrhoden 9056 Switzerland;X-APPLE-RADIUS=500;X-TITLE=Gaiserau 46:geo:9.4506805,47.3592607
END:VEVENT
BEGIN:VEVENT
DTSTART;TZID=Europe/Zurich:20260617T183000
DTEND;TZID=Europe/Zurich:20260617T185000
DTSTAMP:20260419T234846
CREATED:20251116T153254Z
LAST-MODIFIED:20260419T204947Z
UID:10001315-1781721000-1781722200@www.feg-gais.ch
SUMMARY:Friedensgebet
DESCRIPTION:
URL:https://www.feg-gais.ch/event/friedensgebet-7/
LOCATION:Dorfpark Gais
END:VEVENT
BEGIN:VEVENT
DTSTART;TZID=Europe/Zurich:20260619T193000
DTEND;TZID=Europe/Zurich:20260619T210000
DTSTAMP:20260419T234846
CREATED:20251116T153254Z
LAST-MODIFIED:20260419T204947Z
UID:10001316-1781897400-1781902800@www.feg-gais.ch
SUMMARY:Monatsgebet
DESCRIPTION:
URL:https://www.feg-gais.ch/event/monatsgebet-10/
LOCATION:FEG Gais\, Gaiserau 46\, Gais\, Appenzell Ausserrhoden\, 9056\, Switzerland
GEO:47.3592607;9.4506805
X-APPLE-STRUCTURED-LOCATION;VALUE=URI;X-ADDRESS=FEG Gais Gaiserau 46 Gais Appenzell Ausserrhoden 9056 Switzerland;X-APPLE-RADIUS=500;X-TITLE=Gaiserau 46:geo:9.4506805,47.3592607
END:VEVENT
BEGIN:VEVENT
DTSTART;TZID=Europe/Zurich:20260620T190000
DTEND;TZID=Europe/Zurich:20260620T213000
DTSTAMP:20260419T234846
CREATED:20251209T083618Z
LAST-MODIFIED:20260419T204947Z
UID:10001426-1781982000-1781991000@www.feg-gais.ch
SUMMARY:Connect
DESCRIPTION:für Jugendliche ab 16 Jahren
URL:https://www.feg-gais.ch/event/connect-16/
LOCATION:FEG Gais\, Gaiserau 46\, Gais\, Appenzell Ausserrhoden\, 9056\, Switzerland
GEO:47.3592607;9.4506805
X-APPLE-STRUCTURED-LOCATION;VALUE=URI;X-ADDRESS=FEG Gais Gaiserau 46 Gais Appenzell Ausserrhoden 9056 Switzerland;X-APPLE-RADIUS=500;X-TITLE=Gaiserau 46:geo:9.4506805,47.3592607
END:VEVENT
BEGIN:VEVENT
DTSTART;TZID=Europe/Zurich:20260621T093000
DTEND;TZID=Europe/Zurich:20260621T110000
DTSTAMP:20260419T234846
CREATED:20251116T153254Z
LAST-MODIFIED:20260419T204959Z
UID:10001317-1782034200-1782039600@www.feg-gais.ch
SUMMARY:Gottesdienst mit FollowMe-Abschlussfeier
DESCRIPTION:Kinderhort | Kidstreff | Apéro
URL:https://www.feg-gais.ch/event/gottesdienst-mit-followme-abschlussfeier/
LOCATION:FEG Gais\, Gaiserau 46\, Gais\, Appenzell Ausserrhoden\, 9056\, Switzerland
GEO:47.3592607;9.4506805
X-APPLE-STRUCTURED-LOCATION;VALUE=URI;X-ADDRESS=FEG Gais Gaiserau 46 Gais Appenzell Ausserrhoden 9056 Switzerland;X-APPLE-RADIUS=500;X-TITLE=Gaiserau 46:geo:9.4506805,47.3592607
END:VEVENT
BEGIN:VEVENT
DTSTART;TZID=Europe/Zurich:20260621T185000
DTEND;TZID=Europe/Zurich:20260621T203000
DTSTAMP:20260419T234846
CREATED:20260402T123359Z
LAST-MODIFIED:20260416T120632Z
UID:10001466-1782067800-1782073800@www.feg-gais.ch
SUMMARY:Sunday Night
DESCRIPTION:Türöffnung: 18.30 Uhr | Live Übertragung aus dem ICF Zürich
URL:https://www.feg-gais.ch/event/sunday-night-7/
LOCATION:FEG Gais\, Gaiserau 46\, Gais\, Appenzell Ausserrhoden\, 9056\, Switzerland
GEO:47.3592607;9.4506805
X-APPLE-STRUCTURED-LOCATION;VALUE=URI;X-ADDRESS=FEG Gais Gaiserau 46 Gais Appenzell Ausserrhoden 9056 Switzerland;X-APPLE-RADIUS=500;X-TITLE=Gaiserau 46:geo:9.4506805,47.3592607
END:VEVENT
BEGIN:VEVENT
DTSTART;TZID=Europe/Zurich:20260621T185000
DTEND;TZID=Europe/Zurich:20260621T203000
DTSTAMP:20260419T234846
CREATED:20260416T132013Z
LAST-MODIFIED:20260419T204959Z
UID:10001468-1782067800-1782073800@www.feg-gais.ch
SUMMARY:Sunday Night
DESCRIPTION:Türöffnung: 18.30 Uhr | Live Übertragung aus dem ICF Zürich
URL:https://www.feg-gais.ch/event/sunday-night-8/
LOCATION:FEG Gais\, Gaiserau 46\, Gais\, Appenzell Ausserrhoden\, 9056\, Switzerland
GEO:47.3592607;9.4506805
X-APPLE-STRUCTURED-LOCATION;VALUE=URI;X-ADDRESS=FEG Gais Gaiserau 46 Gais Appenzell Ausserrhoden 9056 Switzerland;X-APPLE-RADIUS=500;X-TITLE=Gaiserau 46:geo:9.4506805,47.3592607
END:VEVENT
BEGIN:VEVENT
DTSTART;TZID=Europe/Zurich:20260623T143000
DTEND;TZID=Europe/Zurich:20260623T170000
DTSTAMP:20260419T234846
CREATED:20251116T153254Z
LAST-MODIFIED:20260415T123739Z
UID:10001318-1782225000-1782234000@www.feg-gais.ch
SUMMARY:65+
DESCRIPTION:
URL:https://www.feg-gais.ch/event/65-10/
LOCATION:FEG Gais\, Gaiserau 46\, Gais\, Appenzell Ausserrhoden\, 9056\, Switzerland
GEO:47.3592607;9.4506805
X-APPLE-STRUCTURED-LOCATION;VALUE=URI;X-ADDRESS=FEG Gais Gaiserau 46 Gais Appenzell Ausserrhoden 9056 Switzerland;X-APPLE-RADIUS=500;X-TITLE=Gaiserau 46:geo:9.4506805,47.3592607
END:VEVENT
BEGIN:VEVENT
DTSTART;TZID=Europe/Zurich:20260624T140000
DTEND;TZID=Europe/Zurich:20260624T160000
DTSTAMP:20260419T234846
CREATED:20251209T083618Z
LAST-MODIFIED:20260419T204959Z
UID:10001427-1782309600-1782316800@www.feg-gais.ch
SUMMARY:Strick-Café
DESCRIPTION:
URL:https://www.feg-gais.ch/event/strick-cafe-39/
LOCATION:FEG Gais\, Gaiserau 46\, Gais\, Appenzell Ausserrhoden\, 9056\, Switzerland
GEO:47.3592607;9.4506805
X-APPLE-STRUCTURED-LOCATION;VALUE=URI;X-ADDRESS=FEG Gais Gaiserau 46 Gais Appenzell Ausserrhoden 9056 Switzerland;X-APPLE-RADIUS=500;X-TITLE=Gaiserau 46:geo:9.4506805,47.3592607
END:VEVENT
BEGIN:VEVENT
DTSTART;TZID=Europe/Zurich:20260624T190000
DTEND;TZID=Europe/Zurich:20260624T210000
DTSTAMP:20260419T234846
CREATED:20251209T083618Z
LAST-MODIFIED:20260419T205000Z
UID:10001428-1782327600-1782334800@www.feg-gais.ch
SUMMARY:Feuerabend Appenzell
DESCRIPTION:Lagerfeuer\, Gemeinschaft\, Austausch\, Grillieren\, Lebensfragen & Herausforderungen\, Antworten \n Für Männer zw. 18 und 45 Jahren. Keine Anmeldungen erforderlich. Getränke und Essen selber mitbringen.
URL:https://www.feg-gais.ch/event/feuerabend-appenzell-10/
LOCATION:Feuerstelle Horstbach
END:VEVENT
BEGIN:VEVENT
DTSTART;TZID=Europe/Zurich:20260628T093000
DTEND;TZID=Europe/Zurich:20260628T110000
DTSTAMP:20260419T234846
CREATED:20250630T202228Z
LAST-MODIFIED:20260419T205000Z
UID:10001222-1782639000-1782644400@www.feg-gais.ch
SUMMARY:Taufgottesdienst
DESCRIPTION:KidsTreff\, Kinderhort
URL:https://www.feg-gais.ch/event/taufgottesdienst/
LOCATION:FEG Gais\, Gaiserau 46\, Gais\, Appenzell Ausserrhoden\, 9056\, Switzerland
GEO:47.3592607;9.4506805
X-APPLE-STRUCTURED-LOCATION;VALUE=URI;X-ADDRESS=FEG Gais Gaiserau 46 Gais Appenzell Ausserrhoden 9056 Switzerland;X-APPLE-RADIUS=500;X-TITLE=Gaiserau 46:geo:9.4506805,47.3592607
END:VEVENT
BEGIN:VEVENT
DTSTART;TZID=Europe/Zurich:20260630T193000
DTEND;TZID=Europe/Zurich:20260630T203000
DTSTAMP:20260419T234846
CREATED:20251116T153255Z
LAST-MODIFIED:20260419T205000Z
UID:10001319-1782847800-1782851400@www.feg-gais.ch
SUMMARY:Gebetsabend
DESCRIPTION:
URL:https://www.feg-gais.ch/event/gebetsabend-15/
LOCATION:FEG Gais\, Gaiserau 46\, Gais\, Appenzell Ausserrhoden\, 9056\, Switzerland
GEO:47.3592607;9.4506805
X-APPLE-STRUCTURED-LOCATION;VALUE=URI;X-ADDRESS=FEG Gais Gaiserau 46 Gais Appenzell Ausserrhoden 9056 Switzerland;X-APPLE-RADIUS=500;X-TITLE=Gaiserau 46:geo:9.4506805,47.3592607
END:VEVENT
END:VCALENDAR