BEGIN:VCALENDAR
VERSION:2.0
PRODID:-//FEG Gais - ECPv6.15.20//NONSGML v1.0//EN
CALSCALE:GREGORIAN
METHOD:PUBLISH
X-ORIGINAL-URL:https://www.feg-gais.ch
X-WR-CALDESC:Veranstaltungen für FEG Gais
REFRESH-INTERVAL;VALUE=DURATION:PT1H
X-Robots-Tag:noindex
X-PUBLISHED-TTL:PT1H
BEGIN:VTIMEZONE
TZID:Europe/Zurich
BEGIN:DAYLIGHT
TZOFFSETFROM:+0100
TZOFFSETTO:+0200
TZNAME:CEST
DTSTART:20250330T010000
END:DAYLIGHT
BEGIN:STANDARD
TZOFFSETFROM:+0200
TZOFFSETTO:+0100
TZNAME:CET
DTSTART:20251026T010000
END:STANDARD
BEGIN:DAYLIGHT
TZOFFSETFROM:+0100
TZOFFSETTO:+0200
TZNAME:CEST
DTSTART:20260329T010000
END:DAYLIGHT
BEGIN:STANDARD
TZOFFSETFROM:+0200
TZOFFSETTO:+0100
TZNAME:CET
DTSTART:20261025T010000
END:STANDARD
BEGIN:DAYLIGHT
TZOFFSETFROM:+0100
TZOFFSETTO:+0200
TZNAME:CEST
DTSTART:20270328T010000
END:DAYLIGHT
BEGIN:STANDARD
TZOFFSETFROM:+0200
TZOFFSETTO:+0100
TZNAME:CET
DTSTART:20271031T010000
END:STANDARD
END:VTIMEZONE
BEGIN:VEVENT
DTSTART;TZID=Europe/Zurich:20260502T190000
DTEND;TZID=Europe/Zurich:20260502T213000
DTSTAMP:20260419T210329
CREATED:20251209T083527Z
LAST-MODIFIED:20260419T183252Z
UID:10001415-1777748400-1777757400@www.feg-gais.ch
SUMMARY:Connect
DESCRIPTION:für Jugendliche ab 16 Jahren
URL:https://www.feg-gais.ch/event/connect-14/
LOCATION:FEG Gais\, Gaiserau 46\, Gais\, Appenzell Ausserrhoden\, 9056\, Switzerland
GEO:47.3592607;9.4506805
X-APPLE-STRUCTURED-LOCATION;VALUE=URI;X-ADDRESS=FEG Gais Gaiserau 46 Gais Appenzell Ausserrhoden 9056 Switzerland;X-APPLE-RADIUS=500;X-TITLE=Gaiserau 46:geo:9.4506805,47.3592607
END:VEVENT
BEGIN:VEVENT
DTSTART;TZID=Europe/Zurich:20260503T093000
DTEND;TZID=Europe/Zurich:20260503T104500
DTSTAMP:20260419T210329
CREATED:20251202T133455Z
LAST-MODIFIED:20260419T183306Z
UID:10001381-1777800600-1777805100@www.feg-gais.ch
SUMMARY:FollowMe im Einsatz
DESCRIPTION:Wir machen alle einen Dienst im Gottesdienst gemäss Absprache und Plan.
URL:https://www.feg-gais.ch/event/followme-im-einsatz-3/
LOCATION:FEG Gais\, Gaiserau 46\, Gais\, Appenzell Ausserrhoden\, 9056\, Switzerland
GEO:47.3592607;9.4506805
X-APPLE-STRUCTURED-LOCATION;VALUE=URI;X-ADDRESS=FEG Gais Gaiserau 46 Gais Appenzell Ausserrhoden 9056 Switzerland;X-APPLE-RADIUS=500;X-TITLE=Gaiserau 46:geo:9.4506805,47.3592607
END:VEVENT
BEGIN:VEVENT
DTSTART;TZID=Europe/Zurich:20260503T093000
DTEND;TZID=Europe/Zurich:20260503T110000
DTSTAMP:20260419T210329
CREATED:20251116T153221Z
LAST-MODIFIED:20260419T183306Z
UID:10001301-1777800600-1777806000@www.feg-gais.ch
SUMMARY:Gottesdienst mit Claudius Zuber
DESCRIPTION:Kinderhort | KidsTreff
URL:https://www.feg-gais.ch/event/gottesdienst-mit-claudius-zuber/
LOCATION:FEG Gais\, Gaiserau 46\, Gais\, Appenzell Ausserrhoden\, 9056\, Switzerland
GEO:47.3592607;9.4506805
X-APPLE-STRUCTURED-LOCATION;VALUE=URI;X-ADDRESS=FEG Gais Gaiserau 46 Gais Appenzell Ausserrhoden 9056 Switzerland;X-APPLE-RADIUS=500;X-TITLE=Gaiserau 46:geo:9.4506805,47.3592607
END:VEVENT
BEGIN:VEVENT
DTSTART;TZID=Europe/Zurich:20260505T193000
DTEND;TZID=Europe/Zurich:20260505T203000
DTSTAMP:20260419T210329
CREATED:20251116T153222Z
LAST-MODIFIED:20260419T183307Z
UID:10001302-1778009400-1778013000@www.feg-gais.ch
SUMMARY:Gebetsabend
DESCRIPTION:
URL:https://www.feg-gais.ch/event/gebetsabend-13/
LOCATION:FEG Gais\, Gaiserau 46\, Gais\, Appenzell Ausserrhoden\, 9056\, Switzerland
GEO:47.3592607;9.4506805
X-APPLE-STRUCTURED-LOCATION;VALUE=URI;X-ADDRESS=FEG Gais Gaiserau 46 Gais Appenzell Ausserrhoden 9056 Switzerland;X-APPLE-RADIUS=500;X-TITLE=Gaiserau 46:geo:9.4506805,47.3592607
END:VEVENT
BEGIN:VEVENT
DTSTART;TZID=Europe/Zurich:20260506T120000
DTEND;TZID=Europe/Zurich:20260506T133000
DTSTAMP:20260419T210329
CREATED:20251116T153222Z
LAST-MODIFIED:20260419T183307Z
UID:10001303-1778068800-1778074200@www.feg-gais.ch
SUMMARY:Mittagstisch
DESCRIPTION:
URL:https://www.feg-gais.ch/event/mittagstisch-14/
LOCATION:FEG Gais\, Gaiserau 46\, Gais\, Appenzell Ausserrhoden\, 9056\, Switzerland
GEO:47.3592607;9.4506805
X-APPLE-STRUCTURED-LOCATION;VALUE=URI;X-ADDRESS=FEG Gais Gaiserau 46 Gais Appenzell Ausserrhoden 9056 Switzerland;X-APPLE-RADIUS=500;X-TITLE=Gaiserau 46:geo:9.4506805,47.3592607
END:VEVENT
BEGIN:VEVENT
DTSTART;TZID=Europe/Zurich:20260506T140000
DTEND;TZID=Europe/Zurich:20260506T160000
DTSTAMP:20260419T210329
CREATED:20251209T083528Z
LAST-MODIFIED:20260419T183307Z
UID:10001416-1778076000-1778083200@www.feg-gais.ch
SUMMARY:Strick-Café
DESCRIPTION:
URL:https://www.feg-gais.ch/event/strick-cafe-32/
LOCATION:FEG Gais\, Gaiserau 46\, Gais\, Appenzell Ausserrhoden\, 9056\, Switzerland
GEO:47.3592607;9.4506805
X-APPLE-STRUCTURED-LOCATION;VALUE=URI;X-ADDRESS=FEG Gais Gaiserau 46 Gais Appenzell Ausserrhoden 9056 Switzerland;X-APPLE-RADIUS=500;X-TITLE=Gaiserau 46:geo:9.4506805,47.3592607
END:VEVENT
BEGIN:VEVENT
DTSTART;TZID=Europe/Zurich:20260510T093000
DTEND;TZID=Europe/Zurich:20260510T104500
DTSTAMP:20260419T210329
CREATED:20251202T133455Z
LAST-MODIFIED:20260419T183307Z
UID:10001382-1778405400-1778409900@www.feg-gais.ch
SUMMARY:FollowMe
DESCRIPTION:
URL:https://www.feg-gais.ch/event/followme-14/
LOCATION:FEG Gais\, Gaiserau 46\, Gais\, Appenzell Ausserrhoden\, 9056\, Switzerland
GEO:47.3592607;9.4506805
X-APPLE-STRUCTURED-LOCATION;VALUE=URI;X-ADDRESS=FEG Gais Gaiserau 46 Gais Appenzell Ausserrhoden 9056 Switzerland;X-APPLE-RADIUS=500;X-TITLE=Gaiserau 46:geo:9.4506805,47.3592607
END:VEVENT
BEGIN:VEVENT
DTSTART;TZID=Europe/Zurich:20260510T093000
DTEND;TZID=Europe/Zurich:20260510T110000
DTSTAMP:20260419T210329
CREATED:20251116T153222Z
LAST-MODIFIED:20260419T183307Z
UID:10001304-1778405400-1778410800@www.feg-gais.ch
SUMMARY:Gottesdienst mit Joachim Heina
DESCRIPTION:Kinderhort | KidsTreff | Abendmahl
URL:https://www.feg-gais.ch/event/gottesdienst-mit-joachim-heina-15/
LOCATION:FEG Gais\, Gaiserau 46\, Gais\, Appenzell Ausserrhoden\, 9056\, Switzerland
GEO:47.3592607;9.4506805
X-APPLE-STRUCTURED-LOCATION;VALUE=URI;X-ADDRESS=FEG Gais Gaiserau 46 Gais Appenzell Ausserrhoden 9056 Switzerland;X-APPLE-RADIUS=500;X-TITLE=Gaiserau 46:geo:9.4506805,47.3592607
END:VEVENT
BEGIN:VEVENT
DTSTART;TZID=Europe/Zurich:20260510T185000
DTEND;TZID=Europe/Zurich:20260510T203000
DTSTAMP:20260419T210329
CREATED:20260402T123315Z
LAST-MODIFIED:20260419T183308Z
UID:10001463-1778439000-1778445000@www.feg-gais.ch
SUMMARY:Sunday Night
DESCRIPTION:Türöffnung: 18.30 Uhr | Live Übertragung aus dem ICF Zürich
URL:https://www.feg-gais.ch/event/sunday-night-4/
LOCATION:FEG Gais\, Gaiserau 46\, Gais\, Appenzell Ausserrhoden\, 9056\, Switzerland
GEO:47.3592607;9.4506805
X-APPLE-STRUCTURED-LOCATION;VALUE=URI;X-ADDRESS=FEG Gais Gaiserau 46 Gais Appenzell Ausserrhoden 9056 Switzerland;X-APPLE-RADIUS=500;X-TITLE=Gaiserau 46:geo:9.4506805,47.3592607
END:VEVENT
BEGIN:VEVENT
DTSTART;TZID=Europe/Zurich:20260512T143000
DTEND;TZID=Europe/Zurich:20260512T153000
DTSTAMP:20260419T210329
CREATED:20251116T153236Z
LAST-MODIFIED:20260419T183308Z
UID:10001305-1778596200-1778599800@www.feg-gais.ch
SUMMARY:Bibelstunde
DESCRIPTION:
URL:https://www.feg-gais.ch/event/bibelstunde-11/
LOCATION:FEG Gais\, Gaiserau 46\, Gais\, Appenzell Ausserrhoden\, 9056\, Switzerland
GEO:47.3592607;9.4506805
X-APPLE-STRUCTURED-LOCATION;VALUE=URI;X-ADDRESS=FEG Gais Gaiserau 46 Gais Appenzell Ausserrhoden 9056 Switzerland;X-APPLE-RADIUS=500;X-TITLE=Gaiserau 46:geo:9.4506805,47.3592607
END:VEVENT
BEGIN:VEVENT
DTSTART;VALUE=DATE:20260513
DTEND;VALUE=DATE:20260518
DTSTAMP:20260419T210329
CREATED:20251210T090509Z
LAST-MODIFIED:20260419T183308Z
UID:10001446-1778637600-1778983199@www.feg-gais.ch
SUMMARY:Jungschar UFLA
DESCRIPTION:
URL:https://www.feg-gais.ch/event/jungschar-ufla/
LOCATION:FEG Gais\, Gaiserau 46\, Gais\, Appenzell Ausserrhoden\, 9056\, Switzerland
GEO:47.3592607;9.4506805
X-APPLE-STRUCTURED-LOCATION;VALUE=URI;X-ADDRESS=FEG Gais Gaiserau 46 Gais Appenzell Ausserrhoden 9056 Switzerland;X-APPLE-RADIUS=500;X-TITLE=Gaiserau 46:geo:9.4506805,47.3592607
END:VEVENT
BEGIN:VEVENT
DTSTART;TZID=Europe/Zurich:20260513T140000
DTEND;TZID=Europe/Zurich:20260513T160000
DTSTAMP:20260419T210329
CREATED:20251209T083544Z
LAST-MODIFIED:20260419T183321Z
UID:10001417-1778680800-1778688000@www.feg-gais.ch
SUMMARY:Strick-Café
DESCRIPTION:
URL:https://www.feg-gais.ch/event/strick-cafe-33/
LOCATION:FEG Gais\, Gaiserau 46\, Gais\, Appenzell Ausserrhoden\, 9056\, Switzerland
GEO:47.3592607;9.4506805
X-APPLE-STRUCTURED-LOCATION;VALUE=URI;X-ADDRESS=FEG Gais Gaiserau 46 Gais Appenzell Ausserrhoden 9056 Switzerland;X-APPLE-RADIUS=500;X-TITLE=Gaiserau 46:geo:9.4506805,47.3592607
END:VEVENT
BEGIN:VEVENT
DTSTART;VALUE=DATE:20260514
DTEND;VALUE=DATE:20260516
DTSTAMP:20260419T210329
CREATED:20260415T134858Z
LAST-MODIFIED:20260419T183321Z
UID:10001467-1778724000-1778810399@www.feg-gais.ch
SUMMARY:Himmelfahrt-Gemeinsam-Tag
DESCRIPTION:Du bist eingeladen\, ein Angbot zu organisierst oder bei einem Anlass mitzumachen. Für beides sind in der FEG Blätter aufgehängt.
URL:https://www.feg-gais.ch/event/himmelfahrt-gemeinsam-tag/
LOCATION:auswärts
END:VEVENT
BEGIN:VEVENT
DTSTART;TZID=Europe/Zurich:20260517T093000
DTEND;TZID=Europe/Zurich:20260517T110000
DTSTAMP:20260419T210329
CREATED:20251116T153237Z
LAST-MODIFIED:20260419T183321Z
UID:10001306-1779010200-1779015600@www.feg-gais.ch
SUMMARY:Gottesdienst mit Joachim Heina
DESCRIPTION:Kinderhort | KidsTreff
URL:https://www.feg-gais.ch/event/gottesdienst-von-joachim-heina-6/
LOCATION:FEG Gais\, Gaiserau 46\, Gais\, Appenzell Ausserrhoden\, 9056\, Switzerland
GEO:47.3592607;9.4506805
X-APPLE-STRUCTURED-LOCATION;VALUE=URI;X-ADDRESS=FEG Gais Gaiserau 46 Gais Appenzell Ausserrhoden 9056 Switzerland;X-APPLE-RADIUS=500;X-TITLE=Gaiserau 46:geo:9.4506805,47.3592607
END:VEVENT
BEGIN:VEVENT
DTSTART;TZID=Europe/Zurich:20260520T140000
DTEND;TZID=Europe/Zurich:20260520T160000
DTSTAMP:20260419T210329
CREATED:20251209T083544Z
LAST-MODIFIED:20260419T183321Z
UID:10001418-1779285600-1779292800@www.feg-gais.ch
SUMMARY:Strick-Café
DESCRIPTION:
URL:https://www.feg-gais.ch/event/strick-cafe-34/
LOCATION:FEG Gais\, Gaiserau 46\, Gais\, Appenzell Ausserrhoden\, 9056\, Switzerland
GEO:47.3592607;9.4506805
X-APPLE-STRUCTURED-LOCATION;VALUE=URI;X-ADDRESS=FEG Gais Gaiserau 46 Gais Appenzell Ausserrhoden 9056 Switzerland;X-APPLE-RADIUS=500;X-TITLE=Gaiserau 46:geo:9.4506805,47.3592607
END:VEVENT
BEGIN:VEVENT
DTSTART;TZID=Europe/Zurich:20260522T193000
DTEND;TZID=Europe/Zurich:20260522T210000
DTSTAMP:20260419T210329
CREATED:20251116T153237Z
LAST-MODIFIED:20260419T183321Z
UID:10001307-1779478200-1779483600@www.feg-gais.ch
SUMMARY:Monatsgebet
DESCRIPTION:
URL:https://www.feg-gais.ch/event/monatsgebet-9/
LOCATION:FEG Gais\, Gaiserau 46\, Gais\, Appenzell Ausserrhoden\, 9056\, Switzerland
GEO:47.3592607;9.4506805
X-APPLE-STRUCTURED-LOCATION;VALUE=URI;X-ADDRESS=FEG Gais Gaiserau 46 Gais Appenzell Ausserrhoden 9056 Switzerland;X-APPLE-RADIUS=500;X-TITLE=Gaiserau 46:geo:9.4506805,47.3592607
END:VEVENT
BEGIN:VEVENT
DTSTART;TZID=Europe/Zurich:20260524T093000
DTEND;TZID=Europe/Zurich:20260524T110000
DTSTAMP:20260419T210329
CREATED:20250630T202226Z
LAST-MODIFIED:20250710T132351Z
UID:10001220-1779615000-1779620400@www.feg-gais.ch
SUMMARY:Pfingstgottesdienst
DESCRIPTION:
URL:https://www.feg-gais.ch/event/pfingstgottesdienst/
LOCATION:FEG Gais\, Gaiserau 46\, Gais\, Appenzell Ausserrhoden\, 9056\, Switzerland
GEO:47.3592607;9.4506805
X-APPLE-STRUCTURED-LOCATION;VALUE=URI;X-ADDRESS=FEG Gais Gaiserau 46 Gais Appenzell Ausserrhoden 9056 Switzerland;X-APPLE-RADIUS=500;X-TITLE=Gaiserau 46:geo:9.4506805,47.3592607
END:VEVENT
BEGIN:VEVENT
DTSTART;TZID=Europe/Zurich:20260524T093000
DTEND;TZID=Europe/Zurich:20260524T110000
DTSTAMP:20260419T210329
CREATED:20250710T141257Z
LAST-MODIFIED:20260419T183322Z
UID:10001225-1779615000-1779620400@www.feg-gais.ch
SUMMARY:Pfingstgottesdienst mit André Kirchhofer
DESCRIPTION:Kinderhort | Kidstreff
URL:https://www.feg-gais.ch/event/pfingstgottesdienst-mit-andre-kirchhofer/
LOCATION:FEG Gais\, Gaiserau 46\, Gais\, Appenzell Ausserrhoden\, 9056\, Switzerland
GEO:47.3592607;9.4506805
X-APPLE-STRUCTURED-LOCATION;VALUE=URI;X-ADDRESS=FEG Gais Gaiserau 46 Gais Appenzell Ausserrhoden 9056 Switzerland;X-APPLE-RADIUS=500;X-TITLE=Gaiserau 46:geo:9.4506805,47.3592607
END:VEVENT
BEGIN:VEVENT
DTSTART;TZID=Europe/Zurich:20260524T185000
DTEND;TZID=Europe/Zurich:20260524T203000
DTSTAMP:20260419T210329
CREATED:20260402T123329Z
LAST-MODIFIED:20260419T183322Z
UID:10001464-1779648600-1779654600@www.feg-gais.ch
SUMMARY:Sunday Night
DESCRIPTION:Türöffnung: 18.30 Uhr | Live Übertragung aus dem ICF Zürich
URL:https://www.feg-gais.ch/event/sunday-night-5/
LOCATION:FEG Gais\, Gaiserau 46\, Gais\, Appenzell Ausserrhoden\, 9056\, Switzerland
GEO:47.3592607;9.4506805
X-APPLE-STRUCTURED-LOCATION;VALUE=URI;X-ADDRESS=FEG Gais Gaiserau 46 Gais Appenzell Ausserrhoden 9056 Switzerland;X-APPLE-RADIUS=500;X-TITLE=Gaiserau 46:geo:9.4506805,47.3592607
END:VEVENT
BEGIN:VEVENT
DTSTART;TZID=Europe/Zurich:20260526T143000
DTEND;TZID=Europe/Zurich:20260526T170000
DTSTAMP:20260419T210329
CREATED:20251116T153237Z
LAST-MODIFIED:20260419T183322Z
UID:10001308-1779805800-1779814800@www.feg-gais.ch
SUMMARY:65+
DESCRIPTION:
URL:https://www.feg-gais.ch/event/65-9/
LOCATION:FEG Gais\, Gaiserau 46\, Gais\, Appenzell Ausserrhoden\, 9056\, Switzerland
GEO:47.3592607;9.4506805
X-APPLE-STRUCTURED-LOCATION;VALUE=URI;X-ADDRESS=FEG Gais Gaiserau 46 Gais Appenzell Ausserrhoden 9056 Switzerland;X-APPLE-RADIUS=500;X-TITLE=Gaiserau 46:geo:9.4506805,47.3592607
END:VEVENT
BEGIN:VEVENT
DTSTART;TZID=Europe/Zurich:20260527T140000
DTEND;TZID=Europe/Zurich:20260527T160000
DTSTAMP:20260419T210329
CREATED:20251209T083545Z
LAST-MODIFIED:20260419T183322Z
UID:10001419-1779890400-1779897600@www.feg-gais.ch
SUMMARY:Strick-Café
DESCRIPTION:
URL:https://www.feg-gais.ch/event/strick-cafe-35/
LOCATION:FEG Gais\, Gaiserau 46\, Gais\, Appenzell Ausserrhoden\, 9056\, Switzerland
GEO:47.3592607;9.4506805
X-APPLE-STRUCTURED-LOCATION;VALUE=URI;X-ADDRESS=FEG Gais Gaiserau 46 Gais Appenzell Ausserrhoden 9056 Switzerland;X-APPLE-RADIUS=500;X-TITLE=Gaiserau 46:geo:9.4506805,47.3592607
END:VEVENT
BEGIN:VEVENT
DTSTART;TZID=Europe/Zurich:20260527T183000
DTEND;TZID=Europe/Zurich:20260527T185000
DTSTAMP:20260419T210329
CREATED:20251116T153237Z
LAST-MODIFIED:20260419T183322Z
UID:10001309-1779906600-1779907800@www.feg-gais.ch
SUMMARY:Friedensgebet
DESCRIPTION:
URL:https://www.feg-gais.ch/event/friedensgebet-6/
LOCATION:Dorfpark Gais
END:VEVENT
BEGIN:VEVENT
DTSTART;TZID=Europe/Zurich:20260527T190000
DTEND;TZID=Europe/Zurich:20260527T210000
DTSTAMP:20260419T210329
CREATED:20251209T083545Z
LAST-MODIFIED:20260419T183334Z
UID:10001420-1779908400-1779915600@www.feg-gais.ch
SUMMARY:Feuerabend Appenzell
DESCRIPTION:Lagerfeuer\, Gemeinschaft\, Austausch\, Grillieren\, Lebensfragen & Herausforderungen\, Antworten \n Für Männer zw. 18 und 45 Jahren. Keine Anmeldungen erforderlich. Getränke und Essen selber mitbringen.
URL:https://www.feg-gais.ch/event/feuerabend-appenzell-9/
LOCATION:Feuerstelle Horstbach
END:VEVENT
BEGIN:VEVENT
DTSTART;TZID=Europe/Zurich:20260530T183000
DTEND;TZID=Europe/Zurich:20260530T213000
DTSTAMP:20260419T210329
CREATED:20251209T083600Z
LAST-MODIFIED:20260419T183335Z
UID:10001421-1780165800-1780176600@www.feg-gais.ch
SUMMARY:Hangout
DESCRIPTION:
URL:https://www.feg-gais.ch/event/hangout-10/
LOCATION:FEG Gais\, Gaiserau 46\, Gais\, Appenzell Ausserrhoden\, 9056\, Switzerland
GEO:47.3592607;9.4506805
X-APPLE-STRUCTURED-LOCATION;VALUE=URI;X-ADDRESS=FEG Gais Gaiserau 46 Gais Appenzell Ausserrhoden 9056 Switzerland;X-APPLE-RADIUS=500;X-TITLE=Gaiserau 46:geo:9.4506805,47.3592607
END:VEVENT
BEGIN:VEVENT
DTSTART;TZID=Europe/Zurich:20260531T190000
DTEND;TZID=Europe/Zurich:20260531T203000
DTSTAMP:20260419T210329
CREATED:20251116T153238Z
LAST-MODIFIED:20260419T183335Z
UID:10001310-1780254000-1780259400@www.feg-gais.ch
SUMMARY:'Läbe teile' - Abendgottesdienst
DESCRIPTION:Kinderhort | KidsTreff
URL:https://www.feg-gais.ch/event/laebe-teile-gottesdienst-4/
LOCATION:FEG Gais\, Gaiserau 46\, Gais\, Appenzell Ausserrhoden\, 9056\, Switzerland
GEO:47.3592607;9.4506805
X-APPLE-STRUCTURED-LOCATION;VALUE=URI;X-ADDRESS=FEG Gais Gaiserau 46 Gais Appenzell Ausserrhoden 9056 Switzerland;X-APPLE-RADIUS=500;X-TITLE=Gaiserau 46:geo:9.4506805,47.3592607
END:VEVENT
END:VCALENDAR