BEGIN:VCALENDAR
VERSION:2.0
PRODID:-//FEG Gais - ECPv6.15.20//NONSGML v1.0//EN
CALSCALE:GREGORIAN
METHOD:PUBLISH
X-ORIGINAL-URL:https://www.feg-gais.ch
X-WR-CALDESC:Veranstaltungen für FEG Gais
REFRESH-INTERVAL;VALUE=DURATION:PT1H
X-Robots-Tag:noindex
X-PUBLISHED-TTL:PT1H
BEGIN:VTIMEZONE
TZID:Europe/Zurich
BEGIN:DAYLIGHT
TZOFFSETFROM:+0100
TZOFFSETTO:+0200
TZNAME:CEST
DTSTART:20260329T010000
END:DAYLIGHT
BEGIN:STANDARD
TZOFFSETFROM:+0200
TZOFFSETTO:+0100
TZNAME:CET
DTSTART:20261025T010000
END:STANDARD
BEGIN:DAYLIGHT
TZOFFSETFROM:+0100
TZOFFSETTO:+0200
TZNAME:CEST
DTSTART:20270328T010000
END:DAYLIGHT
BEGIN:STANDARD
TZOFFSETFROM:+0200
TZOFFSETTO:+0100
TZNAME:CET
DTSTART:20271031T010000
END:STANDARD
BEGIN:DAYLIGHT
TZOFFSETFROM:+0100
TZOFFSETTO:+0200
TZNAME:CEST
DTSTART:20280326T010000
END:DAYLIGHT
BEGIN:STANDARD
TZOFFSETFROM:+0200
TZOFFSETTO:+0100
TZNAME:CET
DTSTART:20281029T010000
END:STANDARD
END:VTIMEZONE
BEGIN:VEVENT
DTSTART;TZID=Europe/Zurich:20270620T103000
DTEND;TZID=Europe/Zurich:20270620T113000
DTSTAMP:20260424T173412
CREATED:20260327T105125Z
LAST-MODIFIED:20260424T152104Z
UID:10001459-1813487400-1813491000@www.feg-gais.ch
SUMMARY:Ökumenischer Gottesdienst
DESCRIPTION:Wir feiern mit der evang.-ref.und der kath.Kirchgemeinde draussen Gottesdienst. \n Anschliessend Mittagessen. Kinderprogramm.
URL:https://www.feg-gais.ch/event/oekumenischer-gottesdienst/
LOCATION:Alterszentrum Rotenwies Gais
END:VEVENT
END:VCALENDAR